Workbook

Sheet Inputs
A1: Powerbuilding program spreadsheet
A2: Weight you use for your working sets (lb). Change the yellow cells; every weight in the other sheets updates.
A4: Lift | B4: Weight you use for your working sets | C4: Working weight
A5: Squat | B5: 185 | C5: =B5*$B$22 -> 185
A6: Leg press | B6: 270 | C6: =B6*$B$22 -> 270
A7: Leg curl | B7: 70 | C7: =B7*$B$22 -> 70
A8: Calf raise | B8: 95 | C8: =B8*$B$22 -> 95
A9: Bench press | B9: 135 | C9: =B9*$B$22 -> 135
A10: Dumbbell row | B10: 45 | C10: =B10*$B$22 -> 45
A11: Incline dumbbell press | B11: 40 | C11: =B11*$B$22 -> 40
A12: Lateral raise | B12: 15 | C12: =B12*$B$22 -> 15
A13: Triceps pushdown | B13: 50 | C13: =B13*$B$22 -> 50
A14: Deadlift | B14: 225 | C14: =B14*$B$22 -> 225
A15: Front squat | B15: 135 | C15: =B15*$B$22 -> 135
A16: Split squat | B16: 45 | C16: =B16*$B$22 -> 45
... A20: Barbell curl | B20: 65 | C20: =B20*$B$22 -> 65
A22: Share of working weight used as the base | B22: 1
A23: Round loads to the nearest (lb) | B23: 5

Sheet Week
A1: Powerbuilding program: one week
A2: Weights are formulas: base weight x percentage, rounded to your plate jump.
A4: Day | B4: Lift | C4: Set | D4: Reps | E4: % of base | F4: Weight (lb) | G4: Note
A5: Squat day | B5: Squat | C5: 1 | D5: 3 | E5: 1 | F5: =ROUND(Inputs!$C$5*E5/Inputs!$B$23,0)*Inputs!$B$23 -> 185
A6: Squat day | B6: Squat | C6: 2 | D6: 3 | E6: 1 | F6: =ROUND(Inputs!$C$5*E6/Inputs!$B$23,0)*Inputs!$B$23 -> 185
A7: Squat day | B7: Squat | C7: 3 | D7: 3 | E7: 1 | F7: =ROUND(Inputs!$C$5*E7/Inputs!$B$23,0)*Inputs!$B$23 -> 185
A8: Squat day | B8: Squat | C8: 4 | D8: 3 | E8: 1 | F8: =ROUND(Inputs!$C$5*E8/Inputs!$B$23,0)*Inputs!$B$23 -> 185
A9: Squat day | B9: Squat | C9: 5 | D9: 3 | E9: 1 | F9: =ROUND(Inputs!$C$5*E9/Inputs!$B$23,0)*Inputs!$B$23 -> 185
A10: Squat day | B10: Leg press | C10: 1 | D10: 10 | E10: 1 | F10: =ROUND(Inputs!$C$6*E10/Inputs!$B$23,0)*Inputs!$B$23 -> 270
A11: Squat day | B11: Leg press | C11: 2 | D11: 10 | E11: 1 | F11: =ROUND(Inputs!$C$6*E11/Inputs!$B$23,0)*Inputs!$B$23 -> 270
A12: Squat day | B12: Leg press | C12: 3 | D12: 10 | E12: 1 | F12: =ROUND(Inputs!$C$6*E12/Inputs!$B$23,0)*Inputs!$B$23 -> 270
A13: Squat day | B13: Leg curl | C13: 1 | D13: 12 | E13: 1 | F13: =ROUND(Inputs!$C$7*E13/Inputs!$B$23,0)*Inputs!$B$23 -> 70
A14: Squat day | B14: Leg curl | C14: 2 | D14: 12 | E14: 1 | F14: =ROUND(Inputs!$C$7*E14/Inputs!$B$23,0)*Inputs!$B$23 -> 70
A15: Squat day | B15: Leg curl | C15: 3 | D15: 12 | E15: 1 | F15: =ROUND(Inputs!$C$7*E15/Inputs!$B$23,0)*Inputs!$B$23 -> 70
A16: Squat day | B16: Calf raise | C16: 1 | D16: 12 | E16: 1 | F16: =ROUND(Inputs!$C$8*E16/Inputs!$B$23,0)*Inputs!$B$23 -> 95
A17: Squat day | B17: Calf raise | C17: 2 | D17: 12 | E17: 1 | F17: =ROUND(Inputs!$C$8*E17/Inputs!$B$23,0)*Inputs!$B$23 -> 95
A18: Squat day | B18: Calf raise | C18: 3 | D18: 12 | E18: 1 | F18: =ROUND(Inputs!$C$8*E18/Inputs!$B$23,0)*Inputs!$B$23 -> 95
A19: Bench day | B19: Bench press | C19: 1 | D19: 3 | E19: 1 | F19: =ROUND(Inputs!$C$9*E19/Inputs!$B$23,0)*Inputs!$B$23 -> 135
A20: Bench day | B20: Bench press | C20: 2 | D20: 3 | E20: 1 | F20: =ROUND(Inputs!$C$9*E20/Inputs!$B$23,0)*Inputs!$B$23 -> 135
A21: Bench day | B21: Bench press | C21: 3 | D21: 3 | E21: 1 | F21: =ROUND(Inputs!$C$9*E21/Inputs!$B$23,0)*Inputs!$B$23 -> 135
A22: Bench day | B22: Bench press | C22: 4 | D22: 3 | E22: 1 | F22: =ROUND(Inputs!$C$9*E22/Inputs!$B$23,0)*Inputs!$B$23 -> 135
A23: Bench day | B23: Bench press | C23: 5 | D23: 3 | E23: 1 | F23: =ROUND(Inputs!$C$9*E23/Inputs!$B$23,0)*Inputs!$B$23 -> 135
A24: Bench day | B24: Dumbbell row | C24: 1 | D24: 10 | E24: 1 | F24: =ROUND(Inputs!$C$10*E24/Inputs!$B$23,0)*Inputs!$B$23 -> 45
A25: Bench day | B25: Dumbbell row | C25: 2 | D25: 10 | E25: 1 | F25: =ROUND(Inputs!$C$10*E25/Inputs!$B$23,0)*Inputs!$B$23 -> 45
A26: Bench day | B26: Dumbbell row | C26: 3 | D26: 10 | E26: 1 | F26: =ROUND(Inputs!$C$10*E26/Inputs!$B$23,0)*Inputs!$B$23 -> 45
A27: Bench day | B27: Dumbbell row | C27: 4 | D27: 10 | E27: 1 | F27: =ROUND(Inputs!$C$10*E27/Inputs!$B$23,0)*Inputs!$B$23 -> 45
A28: Bench day | B28: Incline dumbbell press | C28: 1 | D28: 10 | E28: 1 | F28: =ROUND(Inputs!$C$11*E28/Inputs!$B$23,0)*Inputs!$B$23 -> 40
A29: Bench day | B29: Incline dumbbell press | C29: 2 | D29: 10 | E29: 1 | F29: =ROUND(Inputs!$C$11*E29/Inputs!$B$23,0)*Inputs!$B$23 -> 40
A30: Bench day | B30: Incline dumbbell press | C30: 3 | D30: 10 | E30: 1 | F30: =ROUND(Inputs!$C$11*E30/Inputs!$B$23,0)*Inputs!$B$23 -> 40
A31: Bench day | B31: Lateral raise | C31: 1 | D31: 15 | E31: 1 | F31: =ROUND(Inputs!$C$12*E31/Inputs!$B$23,0)*Inputs!$B$23 -> 15
A32: Bench day | B32: Lateral raise | C32: 2 | D32: 15 | E32: 1 | F32: =ROUND(Inputs!$C$12*E32/Inputs!$B$23,0)*Inputs!$B$23 -> 15
A33: Bench day | B33: Lateral raise | C33: 3 | D33: 15 | E33: 1 | F33: =ROUND(Inputs!$C$12*E33/Inputs!$B$23,0)*Inputs!$B$23 -> 15
A34: Bench day | B34: Triceps pushdown | C34: 1 | D34: 12 | E34: 1 | F34: =ROUND(Inputs!$C$13*E34/Inputs!$B$23,0)*Inputs!$B$23 -> 50
A35: Bench day | B35: Triceps pushdown | C35: 2 | D35: 12 | E35: 1 | F35: =ROUND(Inputs!$C$13*E35/Inputs!$B$23,0)*Inputs!$B$23 -> 50
A36: Bench day | B36: Triceps pushdown | C36: 3 | D36: 12 | E36: 1 | F36: =ROUND(Inputs!$C$13*E36/Inputs!$B$23,0)*Inputs!$B$23 -> 50
A37: Deadlift day | B37: Deadlift | C37: 1 | D37: 3 | E37: 1 | F37: =ROUND(Inputs!$C$14*E37/Inputs!$B$23,0)*Inputs!$B$23 -> 225
A38: Deadlift day | B38: Deadlift | C38: 2 | D38: 3 | E38: 1 | F38: =ROUND(Inputs!$C$14*E38/Inputs!$B$23,0)*Inputs!$B$23 -> 225
A39: Deadlift day | B39: Deadlift | C39: 3 | D39: 3 | E39: 1 | F39: =ROUND(Inputs!$C$14*E39/Inputs!$B$23,0)*Inputs!$B$23 -> 225
A40: Deadlift day | B40: Deadlift | C40: 4 | D40: 3 | E40: 1 | F40: =ROUND(Inputs!$C$14*E40/Inputs!$B$23,0)*Inputs!$B$23 -> 225
A41: Deadlift day | B41: Front squat | C41: 1 | D41: 8 | E41: 1 | F41: =ROUND(Inputs!$C$15*E41/Inputs!$B$23,0)*Inputs!$B$23 -> 135
...

Sheet Progress
A1: Powerbuilding program: weight on the bar
A2: Each column is one lift. Row 1 is the first time you do it. The increment row is yours to change.
A4: Times you have done the lift | B4: Squat | C4: Leg press | D4: Leg curl | E4: Calf raise | F4: Bench press | G4: Dumbbell row | H4: Incline dumbbell press | I4: Lateral raise | J4: Triceps pushdown | K4: Deadlift | L4: Front squat | M4: Split squat | N4: Overhead press | O4: Close-grip bench press | P4: Face pull | Q4: Barbell curl
A5: Add each time (lb) | B5: 5 | C5: 10 | D5: 5 | E5: 5 | F5: 5 | G5: 5 | H5: 5 | I5: 2.5 | J5: 5 | K5: 5 | L5: 5 | M5: 5 | N5: 2.5 | O5: 5 | P5: 2.5 | Q5: 2.5
A6: 1 | B6: =Inputs!$C$5+($A6-1)*B$5 -> 185 | C6: =Inputs!$C$6+($A6-1)*C$5 -> 270 | D6: =Inputs!$C$7+($A6-1)*D$5 -> 70 | E6: =Inputs!$C$8+($A6-1)*E$5 -> 95 | F6: =Inputs!$C$9+($A6-1)*F$5 -> 135 | G6: =Inputs!$C$10+($A6-1)*G$5 -> 45 | H6: =Inputs!$C$11+($A6-1)*H$5 -> 40 | I6: =Inputs!$C$12+($A6-1)*I$5 -> 15 | J6: =Inputs!$C$13+($A6-1)*J$5 -> 50 | K6: =Inputs!$C$14+($A6-1)*K$5 -> 225 | L6: =Inputs!$C$15+($A6-1)*L$5 -> 135 | M6: =Inputs!$C$16+($A6-1)*M$5 -> 45 | N6: =Inputs!$C$17+($A6-1)*N$5 -> 85 | O6: =Inputs!$C$18+($A6-1)*O$5 -> 115 | P6: =Inputs!$C$19+($A6-1)*P$5 -> 40 | Q6: =Inputs!$C$20+($A6-1)*Q$5 -> 65
A7: 2 | B7: =Inputs!$C$5+($A7-1)*B$5 -> 190 | C7: =Inputs!$C$6+($A7-1)*C$5 -> 280 | D7: =Inputs!$C$7+($A7-1)*D$5 -> 75 | E7: =Inputs!$C$8+($A7-1)*E$5 -> 100 | F7: =Inputs!$C$9+($A7-1)*F$5 -> 140 | G7: =Inputs!$C$10+($A7-1)*G$5 -> 50 | H7: =Inputs!$C$11+($A7-1)*H$5 -> 45 | I7: =Inputs!$C$12+($A7-1)*I$5 -> 17.5 | J7: =Inputs!$C$13+($A7-1)*J$5 -> 55 | K7: =Inputs!$C$14+($A7-1)*K$5 -> 230 | L7: =Inputs!$C$15+($A7-1)*L$5 -> 140 | M7: =Inputs!$C$16+($A7-1)*M$5 -> 50 | N7: =Inputs!$C$17+($A7-1)*N$5 -> 87.5 | O7: =Inputs!$C$18+($A7-1)*O$5 -> 120 | P7: =Inputs!$C$19+($A7-1)*P$5 -> 42.5 | Q7: =Inputs!$C$20+($A7-1)*Q$5 -> 67.5
A8: 3 | B8: =Inputs!$C$5+($A8-1)*B$5 -> 195 | C8: =Inputs!$C$6+($A8-1)*C$5 -> 290 | D8: =Inputs!$C$7+($A8-1)*D$5 -> 80 | E8: =Inputs!$C$8+($A8-1)*E$5 -> 105 | F8: =Inputs!$C$9+($A8-1)*F$5 -> 145 | G8: =Inputs!$C$10+($A8-1)*G$5 -> 55 | H8: =Inputs!$C$11+($A8-1)*H$5 -> 50 | I8: =Inputs!$C$12+($A8-1)*I$5 -> 20 | J8: =Inputs!$C$13+($A8-1)*J$5 -> 60 | K8: =Inputs!$C$14+($A8-1)*K$5 -> 235 | L8: =Inputs!$C$15+($A8-1)*L$5 -> 145 | M8: =Inputs!$C$16+($A8-1)*M$5 -> 55 | N8: =Inputs!$C$17+($A8-1)*N$5 -> 90 | O8: =Inputs!$C$18+($A8-1)*O$5 -> 125 | P8: =Inputs!$C$19+($A8-1)*P$5 -> 45 | Q8: =Inputs!$C$20+($A8-1)*Q$5 -> 70
A9: 4 | B9: =Inputs!$C$5+($A9-1)*B$5 -> 200 | C9: =Inputs!$C$6+($A9-1)*C$5 -> 300 | D9: =Inputs!$C$7+($A9-1)*D$5 -> 85 | E9: =Inputs!$C$8+($A9-1)*E$5 -> 110 | F9: =Inputs!$C$9+($A9-1)*F$5 -> 150 | G9: =Inputs!$C$10+($A9-1)*G$5 -> 60 | H9: =Inputs!$C$11+($A9-1)*H$5 -> 55 | I9: =Inputs!$C$12+($A9-1)*I$5 -> 22.5 | J9: =Inputs!$C$13+($A9-1)*J$5 -> 65 | K9: =Inputs!$C$14+($A9-1)*K$5 -> 240 | L9: =Inputs!$C$15+($A9-1)*L$5 -> 150 | M9: =Inputs!$C$16+($A9-1)*M$5 -> 60 | N9: =Inputs!$C$17+($A9-1)*N$5 -> 92.5 | O9: =Inputs!$C$18+($A9-1)*O$5 -> 130 | P9: =Inputs!$C$19+($A9-1)*P$5 -> 47.5 | Q9: =Inputs!$C$20+($A9-1)*Q$5 -> 72.5
A10: 5 | B10: =Inputs!$C$5+($A10-1)*B$5 -> 205 | C10: =Inputs!$C$6+($A10-1)*C$5 -> 310 | D10: =Inputs!$C$7+($A10-1)*D$5 -> 90 | E10: =Inputs!$C$8+($A10-1)*E$5 -> 115 | F10: =Inputs!$C$9+($A10-1)*F$5 -> 155 | G10: =Inputs!$C$10+($A10-1)*G$5 -> 65 | H10: =Inputs!$C$11+($A10-1)*H$5 -> 60 | I10: =Inputs!$C$12+($A10-1)*I$5 -> 25 | J10: =Inputs!$C$13+($A10-1)*J$5 -> 70 | K10: =Inputs!$C$14+($A10-1)*K$5 -> 245 | L10: =Inputs!$C$15+($A10-1)*L$5 -> 155 | M10: =Inputs!$C$16+($A10-1)*M$5 -> 65 | N10: =Inputs!$C$17+($A10-1)*N$5 -> 95 | O10: =Inputs!$C$18+($A10-1)*O$5 -> 135 | P10: =Inputs!$C$19+($A10-1)*P$5 -> 50 | Q10: =Inputs!$C$20+($A10-1)*Q$5 -> 75
A11: 6 | B11: =Inputs!$C$5+($A11-1)*B$5 -> 210 | C11: =Inputs!$C$6+($A11-1)*C$5 -> 320 | D11: =Inputs!$C$7+($A11-1)*D$5 -> 95 | E11: =Inputs!$C$8+($A11-1)*E$5 -> 120 | F11: =Inputs!$C$9+($A11-1)*F$5 -> 160 | G11: =Inputs!$C$10+($A11-1)*G$5 -> 70 | H11: =Inputs!$C$11+($A11-1)*H$5 -> 65 | I11: =Inputs!$C$12+($A11-1)*I$5 -> 27.5 | J11: =Inputs!$C$13+($A11-1)*J$5 -> 75 | K11: =Inputs!$C$14+($A11-1)*K$5 -> 250 | L11: =Inputs!$C$15+($A11-1)*L$5 -> 160 | M11: =Inputs!$C$16+($A11-1)*M$5 -> 70 | N11: =Inputs!$C$17+($A11-1)*N$5 -> 97.5 | O11: =Inputs!$C$18+($A11-1)*O$5 -> 140 | P11: =Inputs!$C$19+($A11-1)*P$5 -> 52.5 | Q11: =Inputs!$C$20+($A11-1)*Q$5 -> 77.5
A12: 7 | B12: =Inputs!$C$5+($A12-1)*B$5 -> 215 | C12: =Inputs!$C$6+($A12-1)*C$5 -> 330 | D12: =Inputs!$C$7+($A12-1)*D$5 -> 100 | E12: =Inputs!$C$8+($A12-1)*E$5 -> 125 | F12: =Inputs!$C$9+($A12-1)*F$5 -> 165 | G12: =Inputs!$C$10+($A12-1)*G$5 -> 75 | H12: =Inputs!$C$11+($A12-1)*H$5 -> 70 | I12: =Inputs!$C$12+($A12-1)*I$5 -> 30 | J12: =Inputs!$C$13+($A12-1)*J$5 -> 80 | K12: =Inputs!$C$14+($A12-1)*K$5 -> 255 | L12: =Inputs!$C$15+($A12-1)*L$5 -> 165 | M12: =Inputs!$C$16+($A12-1)*M$5 -> 75 | N12: =Inputs!$C$17+($A12-1)*N$5 -> 100 | O12: =Inputs!$C$18+($A12-1)*O$5 -> 145 | P12: =Inputs!$C$19+($A12-1)*P$5 -> 55 | Q12: =Inputs!$C$20+($A12-1)*Q$5 -> 80
A13: 8 | B13: =Inputs!$C$5+($A13-1)*B$5 -> 220 | C13: =Inputs!$C$6+($A13-1)*C$5 -> 340 | D13: =Inputs!$C$7+($A13-1)*D$5 -> 105 | E13: =Inputs!$C$8+($A13-1)*E$5 -> 130 | F13: =Inputs!$C$9+($A13-1)*F$5 -> 170 | G13: =Inputs!$C$10+($A13-1)*G$5 -> 80 | H13: =Inputs!$C$11+($A13-1)*H$5 -> 75 | I13: =Inputs!$C$12+($A13-1)*I$5 -> 32.5 | J13: =Inputs!$C$13+($A13-1)*J$5 -> 85 | K13: =Inputs!$C$14+($A13-1)*K$5 -> 260 | L13: =Inputs!$C$15+($A13-1)*L$5 -> 170 | M13: =Inputs!$C$16+($A13-1)*M$5 -> 80 | N13: =Inputs!$C$17+($A13-1)*N$5 -> 102.5 | O13: =Inputs!$C$18+($A13-1)*O$5 -> 150 | P13: =Inputs!$C$19+($A13-1)*P$5 -> 57.5 | Q13: =Inputs!$C$20+($A13-1)*Q$5 -> 82.5
A14: 9 | B14: =Inputs!$C$5+($A14-1)*B$5 -> 225 | C14: =Inputs!$C$6+($A14-1)*C$5 -> 350 | D14: =Inputs!$C$7+($A14-1)*D$5 -> 110 | E14: =Inputs!$C$8+($A14-1)*E$5 -> 135 | F14: =Inputs!$C$9+($A14-1)*F$5 -> 175 | G14: =Inputs!$C$10+($A14-1)*G$5 -> 85 | H14: =Inputs!$C$11+($A14-1)*H$5 -> 80 | I14: =Inputs!$C$12+($A14-1)*I$5 -> 35 | J14: =Inputs!$C$13+($A14-1)*J$5 -> 90 | K14: =Inputs!$C$14+($A14-1)*K$5 -> 265 | L14: =Inputs!$C$15+($A14-1)*L$5 -> 175 | M14: =Inputs!$C$16+($A14-1)*M$5 -> 85 | N14: =Inputs!$C$17+($A14-1)*N$5 -> 105 | O14: =Inputs!$C$18+($A14-1)*O$5 -> 155 | P14: =Inputs!$C$19+($A14-1)*P$5 -> 60 | Q14: =Inputs!$C$20+($A14-1)*Q$5 -> 85
A15: 10 | B15: =Inputs!$C$5+($A15-1)*B$5 -> 230 | C15: =Inputs!$C$6+($A15-1)*C$5 -> 360 | D15: =Inputs!$C$7+($A15-1)*D$5 -> 115 | E15: =Inputs!$C$8+($A15-1)*E$5 -> 140 | F15: =Inputs!$C$9+($A15-1)*F$5 -> 180 | G15: =Inputs!$C$10+($A15-1)*G$5 -> 90 | H15: =Inputs!$C$11+($A15-1)*H$5 -> 85 | I15: =Inputs!$C$12+($A15-1)*I$5 -> 37.5 | J15: =Inputs!$C$13+($A15-1)*J$5 -> 95 | K15: =Inputs!$C$14+($A15-1)*K$5 -> 270 | L15: =Inputs!$C$15+($A15-1)*L$5 -> 180 | M15: =Inputs!$C$16+($A15-1)*M$5 -> 90 | N15: =Inputs!$C$17+($A15-1)*N$5 -> 107.5 | O15: =Inputs!$C$18+($A15-1)*O$5 -> 160 | P15: =Inputs!$C$19+($A15-1)*P$5 -> 62.5 | Q15: =Inputs!$C$20+($A15-1)*Q$5 -> 87.5
A16: 11 | B16: =Inputs!$C$5+($A16-1)*B$5 -> 235 | C16: =Inputs!$C$6+($A16-1)*C$5 -> 370 | D16: =Inputs!$C$7+($A16-1)*D$5 -> 120 | E16: =Inputs!$C$8+($A16-1)*E$5 -> 145 | F16: =Inputs!$C$9+($A16-1)*F$5 -> 185 | G16: =Inputs!$C$10+($A16-1)*G$5 -> 95 | H16: =Inputs!$C$11+($A16-1)*H$5 -> 90 | I16: =Inputs!$C$12+($A16-1)*I$5 -> 40 | J16: =Inputs!$C$13+($A16-1)*J$5 -> 100 | K16: =Inputs!$C$14+($A16-1)*K$5 -> 275 | L16: =Inputs!$C$15+($A16-1)*L$5 -> 185 | M16: =Inputs!$C$16+($A16-1)*M$5 -> 95 | N16: =Inputs!$C$17+($A16-1)*N$5 -> 110 | O16: =Inputs!$C$18+($A16-1)*O$5 -> 165 | P16: =Inputs!$C$19+($A16-1)*P$5 -> 65 | Q16: =Inputs!$C$20+($A16-1)*Q$5 -> 90
A17: 12 | B17: =Inputs!$C$5+($A17-1)*B$5 -> 240 | C17: =Inputs!$C$6+($A17-1)*C$5 -> 380 | D17: =Inputs!$C$7+($A17-1)*D$5 -> 125 | E17: =Inputs!$C$8+($A17-1)*E$5 -> 150 | F17: =Inputs!$C$9+($A17-1)*F$5 -> 190 | G17: =Inputs!$C$10+($A17-1)*G$5 -> 100 | H17: =Inputs!$C$11+($A17-1)*H$5 -> 95 | I17: =Inputs!$C$12+($A17-1)*I$5 -> 42.5 | J17: =Inputs!$C$13+($A17-1)*J$5 -> 105 | K17: =Inputs!$C$14+($A17-1)*K$5 -> 280 | L17: =Inputs!$C$15+($A17-1)*L$5 -> 190 | M17: =Inputs!$C$16+($A17-1)*M$5 -> 100 | N17: =Inputs!$C$17+($A17-1)*N$5 -> 112.5 | O17: =Inputs!$C$18+($A17-1)*O$5 -> 170 | P17: =Inputs!$C$19+($A17-1)*P$5 -> 67.5 | Q17: =Inputs!$C$20+($A17-1)*Q$5 -> 92.5
... A29: 24 | B29: =Inputs!$C$5+($A29-1)*B$5 -> 300 | C29: =Inputs!$C$6+($A29-1)*C$5 -> 500 | D29: =Inputs!$C$7+($A29-1)*D$5 -> 185 | E29: =Inputs!$C$8+($A29-1)*E$5 -> 210 | F29: =Inputs!$C$9+($A29-1)*F$5 -> 250 | G29: =Inputs!$C$10+($A29-1)*G$5 -> 160 | H29: =Inputs!$C$11+($A29-1)*H$5 -> 155 | I29: =Inputs!$C$12+($A29-1)*I$5 -> 72.5 | J29: =Inputs!$C$13+($A29-1)*J$5 -> 165 | K29: =Inputs!$C$14+($A29-1)*K$5 -> 340 | L29: =Inputs!$C$15+($A29-1)*L$5 -> 250 | M29: =Inputs!$C$16+($A29-1)*M$5 -> 160 | N29: =Inputs!$C$17+($A29-1)*N$5 -> 142.5 | O29: =Inputs!$C$18+($A29-1)*O$5 -> 230 | P29: =Inputs!$C$19+($A29-1)*P$5 -> 97.5 | Q29: =Inputs!$C$20+($A29-1)*Q$5 -> 122.5
A31: Missed a weight three times? Take about 10% off the bar and build back up.
