Workbook

Sheet Inputs
A1: nSuns 5/3/1 spreadsheet
A2: Your one-rep max (a true or estimated max) (lb). Change the yellow cells; every weight in the other sheets updates.
A4: Lift | B4: Your one-rep max (a true or estimated max) | C4: Training max
A5: Squat | B5: 315 | C5: =B5*$B$10 -> 283.5
A6: Bench press | B6: 225 | C6: =B6*$B$10 -> 202.5
A7: Deadlift | B7: 405 | C7: =B7*$B$10 -> 364.5
A8: Overhead press | B8: 135 | C8: =B8*$B$10 -> 121.5
A10: Training max as a share of your max | B10: 0.9
A11: Round loads to the nearest (lb) | B11: 5

Sheet Week
A1: nSuns 5/3/1: one week
A2: Weights are formulas: base weight x percentage, rounded to your plate jump.
A4: Day | B4: Lift | C4: Set | D4: Reps | E4: % of base | F4: Weight (lb) | G4: Note
A5: Day 1: Bench and overhead press | B5: Bench press | C5: 1 | D5: 8 | E5: 0.65 | F5: =ROUND(Inputs!$C$6*E5/Inputs!$B$11,0)*Inputs!$B$11 -> 130
A6: Day 1: Bench and overhead press | B6: Bench press | C6: 2 | D6: 6 | E6: 0.75 | F6: =ROUND(Inputs!$C$6*E6/Inputs!$B$11,0)*Inputs!$B$11 -> 150
A7: Day 1: Bench and overhead press | B7: Bench press | C7: 3 | D7: 4 | E7: 0.85 | F7: =ROUND(Inputs!$C$6*E7/Inputs!$B$11,0)*Inputs!$B$11 -> 170
A8: Day 1: Bench and overhead press | B8: Bench press | C8: 4 | D8: 4 | E8: 0.85 | F8: =ROUND(Inputs!$C$6*E8/Inputs!$B$11,0)*Inputs!$B$11 -> 170
A9: Day 1: Bench and overhead press | B9: Bench press | C9: 5 | D9: 4 | E9: 0.85 | F9: =ROUND(Inputs!$C$6*E9/Inputs!$B$11,0)*Inputs!$B$11 -> 170
A10: Day 1: Bench and overhead press | B10: Bench press | C10: 6 | D10: 5 | E10: 0.8 | F10: =ROUND(Inputs!$C$6*E10/Inputs!$B$11,0)*Inputs!$B$11 -> 160
A11: Day 1: Bench and overhead press | B11: Bench press | C11: 7 | D11: 6 | E11: 0.75 | F11: =ROUND(Inputs!$C$6*E11/Inputs!$B$11,0)*Inputs!$B$11 -> 150
A12: Day 1: Bench and overhead press | B12: Bench press | C12: 8 | D12: 7 | E12: 0.7 | F12: =ROUND(Inputs!$C$6*E12/Inputs!$B$11,0)*Inputs!$B$11 -> 140
A13: Day 1: Bench and overhead press | B13: Bench press | C13: 9 | D13: 8 | E13: 0.65 | F13: =ROUND(Inputs!$C$6*E13/Inputs!$B$11,0)*Inputs!$B$11 -> 130 | G13: AMRAP: as many good reps as you can
A14: Day 1: Bench and overhead press | B14: Overhead press | C14: 1 | D14: 6 | E14: 0.5 | F14: =ROUND(Inputs!$C$8*E14/Inputs!$B$11,0)*Inputs!$B$11 -> 60
A15: Day 1: Bench and overhead press | B15: Overhead press | C15: 2 | D15: 5 | E15: 0.6 | F15: =ROUND(Inputs!$C$8*E15/Inputs!$B$11,0)*Inputs!$B$11 -> 75
A16: Day 1: Bench and overhead press | B16: Overhead press | C16: 3 | D16: 3 | E16: 0.7 | F16: =ROUND(Inputs!$C$8*E16/Inputs!$B$11,0)*Inputs!$B$11 -> 85
A17: Day 1: Bench and overhead press | B17: Overhead press | C17: 4 | D17: 5 | E17: 0.7 | F17: =ROUND(Inputs!$C$8*E17/Inputs!$B$11,0)*Inputs!$B$11 -> 85
A18: Day 1: Bench and overhead press | B18: Overhead press | C18: 5 | D18: 7 | E18: 0.7 | F18: =ROUND(Inputs!$C$8*E18/Inputs!$B$11,0)*Inputs!$B$11 -> 85
A19: Day 1: Bench and overhead press | B19: Overhead press | C19: 6 | D19: 4 | E19: 0.7 | F19: =ROUND(Inputs!$C$8*E19/Inputs!$B$11,0)*Inputs!$B$11 -> 85
A20: Day 1: Bench and overhead press | B20: Overhead press | C20: 7 | D20: 6 | E20: 0.7 | F20: =ROUND(Inputs!$C$8*E20/Inputs!$B$11,0)*Inputs!$B$11 -> 85
A21: Day 1: Bench and overhead press | B21: Overhead press | C21: 8 | D21: 8 | E21: 0.7 | F21: =ROUND(Inputs!$C$8*E21/Inputs!$B$11,0)*Inputs!$B$11 -> 85
A22: Day 2: Squat and sumo deadlift | B22: Squat | C22: 1 | D22: 5 | E22: 0.75 | F22: =ROUND(Inputs!$C$5*E22/Inputs!$B$11,0)*Inputs!$B$11 -> 215
A23: Day 2: Squat and sumo deadlift | B23: Squat | C23: 2 | D23: 3 | E23: 0.85 | F23: =ROUND(Inputs!$C$5*E23/Inputs!$B$11,0)*Inputs!$B$11 -> 240
A24: Day 2: Squat and sumo deadlift | B24: Squat | C24: 3 | D24: 1 | E24: 0.95 | F24: =ROUND(Inputs!$C$5*E24/Inputs!$B$11,0)*Inputs!$B$11 -> 270 | G24: AMRAP: as many good reps as you can
A25: Day 2: Squat and sumo deadlift | B25: Squat | C25: 4 | D25: 3 | E25: 0.9 | F25: =ROUND(Inputs!$C$5*E25/Inputs!$B$11,0)*Inputs!$B$11 -> 255
A26: Day 2: Squat and sumo deadlift | B26: Squat | C26: 5 | D26: 3 | E26: 0.85 | F26: =ROUND(Inputs!$C$5*E26/Inputs!$B$11,0)*Inputs!$B$11 -> 240
A27: Day 2: Squat and sumo deadlift | B27: Squat | C27: 6 | D27: 3 | E27: 0.8 | F27: =ROUND(Inputs!$C$5*E27/Inputs!$B$11,0)*Inputs!$B$11 -> 225
A28: Day 2: Squat and sumo deadlift | B28: Squat | C28: 7 | D28: 5 | E28: 0.75 | F28: =ROUND(Inputs!$C$5*E28/Inputs!$B$11,0)*Inputs!$B$11 -> 215
A29: Day 2: Squat and sumo deadlift | B29: Squat | C29: 8 | D29: 5 | E29: 0.7 | F29: =ROUND(Inputs!$C$5*E29/Inputs!$B$11,0)*Inputs!$B$11 -> 200
A30: Day 2: Squat and sumo deadlift | B30: Squat | C30: 9 | D30: 5 | E30: 0.65 | F30: =ROUND(Inputs!$C$5*E30/Inputs!$B$11,0)*Inputs!$B$11 -> 185 | G30: AMRAP: as many good reps as you can
A31: Day 2: Squat and sumo deadlift | B31: Sumo deadlift | C31: 1 | D31: 5 | E31: 0.5 | F31: =ROUND(Inputs!$C$7*E31/Inputs!$B$11,0)*Inputs!$B$11 -> 180
A32: Day 2: Squat and sumo deadlift | B32: Sumo deadlift | C32: 2 | D32: 5 | E32: 0.6 | F32: =ROUND(Inputs!$C$7*E32/Inputs!$B$11,0)*Inputs!$B$11 -> 220
A33: Day 2: Squat and sumo deadlift | B33: Sumo deadlift | C33: 3 | D33: 3 | E33: 0.7 | F33: =ROUND(Inputs!$C$7*E33/Inputs!$B$11,0)*Inputs!$B$11 -> 255
A34: Day 2: Squat and sumo deadlift | B34: Sumo deadlift | C34: 4 | D34: 5 | E34: 0.7 | F34: =ROUND(Inputs!$C$7*E34/Inputs!$B$11,0)*Inputs!$B$11 -> 255
A35: Day 2: Squat and sumo deadlift | B35: Sumo deadlift | C35: 5 | D35: 7 | E35: 0.7 | F35: =ROUND(Inputs!$C$7*E35/Inputs!$B$11,0)*Inputs!$B$11 -> 255
A36: Day 2: Squat and sumo deadlift | B36: Sumo deadlift | C36: 6 | D36: 4 | E36: 0.7 | F36: =ROUND(Inputs!$C$7*E36/Inputs!$B$11,0)*Inputs!$B$11 -> 255
A37: Day 2: Squat and sumo deadlift | B37: Sumo deadlift | C37: 7 | D37: 6 | E37: 0.7 | F37: =ROUND(Inputs!$C$7*E37/Inputs!$B$11,0)*Inputs!$B$11 -> 255
A38: Day 2: Squat and sumo deadlift | B38: Sumo deadlift | C38: 8 | D38: 8 | E38: 0.7 | F38: =ROUND(Inputs!$C$7*E38/Inputs!$B$11,0)*Inputs!$B$11 -> 255
A39: Day 3: Bench and close-grip bench | B39: Bench press | C39: 1 | D39: 5 | E39: 0.75 | F39: =ROUND(Inputs!$C$6*E39/Inputs!$B$11,0)*Inputs!$B$11 -> 150
A40: Day 3: Bench and close-grip bench | B40: Bench press | C40: 2 | D40: 3 | E40: 0.85 | F40: =ROUND(Inputs!$C$6*E40/Inputs!$B$11,0)*Inputs!$B$11 -> 170
A41: Day 3: Bench and close-grip bench | B41: Bench press | C41: 3 | D41: 1 | E41: 0.95 | F41: =ROUND(Inputs!$C$6*E41/Inputs!$B$11,0)*Inputs!$B$11 -> 190 | G41: AMRAP: as many good reps as you can
A42: Day 3: Bench and close-grip bench | B42: Bench press | C42: 4 | D42: 3 | E42: 0.9 | F42: =ROUND(Inputs!$C$6*E42/Inputs!$B$11,0)*Inputs!$B$11 -> 180
A43: Day 3: Bench and close-grip bench | B43: Bench press | C43: 5 | D43: 3 | E43: 0.85 | F43: =ROUND(Inputs!$C$6*E43/Inputs!$B$11,0)*Inputs!$B$11 -> 170
A44: Day 3: Bench and close-grip bench | B44: Bench press | C44: 6 | D44: 3 | E44: 0.8 | F44: =ROUND(Inputs!$C$6*E44/Inputs!$B$11,0)*Inputs!$B$11 -> 160
A45: Day 3: Bench and close-grip bench | B45: Bench press | C45: 7 | D45: 5 | E45: 0.75 | F45: =ROUND(Inputs!$C$6*E45/Inputs!$B$11,0)*Inputs!$B$11 -> 150
A46: Day 3: Bench and close-grip bench | B46: Bench press | C46: 8 | D46: 5 | E46: 0.7 | F46: =ROUND(Inputs!$C$6*E46/Inputs!$B$11,0)*Inputs!$B$11 -> 140
A47: Day 3: Bench and close-grip bench | B47: Bench press | C47: 9 | D47: 5 | E47: 0.65 | F47: =ROUND(Inputs!$C$6*E47/Inputs!$B$11,0)*Inputs!$B$11 -> 130 | G47: AMRAP: as many good reps as you can
A48: Day 3: Bench and close-grip bench | B48: Close-grip bench press | C48: 1 | D48: 6 | E48: 0.4 | F48: =ROUND(Inputs!$C$6*E48/Inputs!$B$11,0)*Inputs!$B$11 -> 80
A49: Day 3: Bench and close-grip bench | B49: Close-grip bench press | C49: 2 | D49: 5 | E49: 0.5 | F49: =ROUND(Inputs!$C$6*E49/Inputs!$B$11,0)*Inputs!$B$11 -> 100
A50: Day 3: Bench and close-grip bench | B50: Close-grip bench press | C50: 3 | D50: 3 | E50: 0.6 | F50: =ROUND(Inputs!$C$6*E50/Inputs!$B$11,0)*Inputs!$B$11 -> 120
A51: Day 3: Bench and close-grip bench | B51: Close-grip bench press | C51: 4 | D51: 5 | E51: 0.6 | F51: =ROUND(Inputs!$C$6*E51/Inputs!$B$11,0)*Inputs!$B$11 -> 120
A52: Day 3: Bench and close-grip bench | B52: Close-grip bench press | C52: 5 | D52: 7 | E52: 0.6 | F52: =ROUND(Inputs!$C$6*E52/Inputs!$B$11,0)*Inputs!$B$11 -> 120
A53: Day 3: Bench and close-grip bench | B53: Close-grip bench press | C53: 6 | D53: 4 | E53: 0.6 | F53: =ROUND(Inputs!$C$6*E53/Inputs!$B$11,0)*Inputs!$B$11 -> 120
A54: Day 3: Bench and close-grip bench | B54: Close-grip bench press | C54: 7 | D54: 6 | E54: 0.6 | F54: =ROUND(Inputs!$C$6*E54/Inputs!$B$11,0)*Inputs!$B$11 -> 120
A55: Day 3: Bench and close-grip bench | B55: Close-grip bench press | C55: 8 | D55: 8 | E55: 0.6 | F55: =ROUND(Inputs!$C$6*E55/Inputs!$B$11,0)*Inputs!$B$11 -> 120
A56: Day 4: Deadlift and front squat | B56: Deadlift | C56: 1 | D56: 5 | E56: 0.75 | F56: =ROUND(Inputs!$C$7*E56/Inputs!$B$11,0)*Inputs!$B$11 -> 275
A57: Day 4: Deadlift and front squat | B57: Deadlift | C57: 2 | D57: 3 | E57: 0.85 | F57: =ROUND(Inputs!$C$7*E57/Inputs!$B$11,0)*Inputs!$B$11 -> 310
A58: Day 4: Deadlift and front squat | B58: Deadlift | C58: 3 | D58: 1 | E58: 0.95 | F58: =ROUND(Inputs!$C$7*E58/Inputs!$B$11,0)*Inputs!$B$11 -> 345 | G58: AMRAP: as many good reps as you can
A59: Day 4: Deadlift and front squat | B59: Deadlift | C59: 4 | D59: 3 | E59: 0.9 | F59: =ROUND(Inputs!$C$7*E59/Inputs!$B$11,0)*Inputs!$B$11 -> 330
A60: Day 4: Deadlift and front squat | B60: Deadlift | C60: 5 | D60: 3 | E60: 0.85 | F60: =ROUND(Inputs!$C$7*E60/Inputs!$B$11,0)*Inputs!$B$11 -> 310
A61: Day 4: Deadlift and front squat | B61: Deadlift | C61: 6 | D61: 3 | E61: 0.8 | F61: =ROUND(Inputs!$C$7*E61/Inputs!$B$11,0)*Inputs!$B$11 -> 290
A62: Day 4: Deadlift and front squat | B62: Deadlift | C62: 7 | D62: 3 | E62: 0.75 | F62: =ROUND(Inputs!$C$7*E62/Inputs!$B$11,0)*Inputs!$B$11 -> 275
A63: Day 4: Deadlift and front squat | B63: Deadlift | C63: 8 | D63: 3 | E63: 0.7 | F63: =ROUND(Inputs!$C$7*E63/Inputs!$B$11,0)*Inputs!$B$11 -> 255
A64: Day 4: Deadlift and front squat | B64: Deadlift | C64: 9 | D64: 3 | E64: 0.65 | F64: =ROUND(Inputs!$C$7*E64/Inputs!$B$11,0)*Inputs!$B$11 -> 235 | G64: AMRAP: as many good reps as you can
A65: Day 4: Deadlift and front squat | B65: Front squat | C65: 1 | D65: 5 | E65: 0.35 | F65: =ROUND(Inputs!$C$5*E65/Inputs!$B$11,0)*Inputs!$B$11 -> 100
A66: Day 4: Deadlift and front squat | B66: Front squat | C66: 2 | D66: 5 | E66: 0.45 | F66: =ROUND(Inputs!$C$5*E66/Inputs!$B$11,0)*Inputs!$B$11 -> 130
A67: Day 4: Deadlift and front squat | B67: Front squat | C67: 3 | D67: 3 | E67: 0.55 | F67: =ROUND(Inputs!$C$5*E67/Inputs!$B$11,0)*Inputs!$B$11 -> 155
A68: Day 4: Deadlift and front squat | B68: Front squat | C68: 4 | D68: 5 | E68: 0.55 | F68: =ROUND(Inputs!$C$5*E68/Inputs!$B$11,0)*Inputs!$B$11 -> 155
A69: Day 4: Deadlift and front squat | B69: Front squat | C69: 5 | D69: 7 | E69: 0.55 | F69: =ROUND(Inputs!$C$5*E69/Inputs!$B$11,0)*Inputs!$B$11 -> 155
A70: Day 4: Deadlift and front squat | B70: Front squat | C70: 6 | D70: 4 | E70: 0.55 | F70: =ROUND(Inputs!$C$5*E70/Inputs!$B$11,0)*Inputs!$B$11 -> 155
A71: Day 4: Deadlift and front squat | B71: Front squat | C71: 7 | D71: 6 | E71: 0.55 | F71: =ROUND(Inputs!$C$5*E71/Inputs!$B$11,0)*Inputs!$B$11 -> 155
A72: Day 4: Deadlift and front squat | B72: Front squat | C72: 8 | D72: 8 | E72: 0.55 | F72: =ROUND(Inputs!$C$5*E72/Inputs!$B$11,0)*Inputs!$B$11 -> 155

Sheet Progress
A1: nSuns 5/3/1: training max by week
A2: Type the reps you got on the 95% AMRAP set into the yellow cells. The next week's training max moves by the amount in the table.
A4: AMRAP reps at least | B4: Add to training max (lb)
A5: 0 | B5: 0
A6: 2 | B6: 5
A7: 4 | B7: 5
A8: 6 | B8: 10
A10: Week | B10: Squat training max | C10: Squat AMRAP reps | D10: Bench press training max | E10: Bench press AMRAP reps | F10: Deadlift training max | G10: Deadlift AMRAP reps | H10: Overhead press training max | I10: Overhead press AMRAP reps
A11: 1 | B11: =Inputs!$C$5 -> 283.5 | D11: =Inputs!$C$6 -> 202.5 | F11: =Inputs!$C$7 -> 364.5 | H11: =Inputs!$C$8 -> 121.5
A12: 2 | B12: =B11+IF(ISNUMBER(C11),LOOKUP(C11,$A$5:$A$8,$B$5:$B$8),0) -> 283.5 | D12: =D11+IF(ISNUMBER(E11),LOOKUP(E11,$A$5:$A$8,$B$5:$B$8),0) -> 202.5 | F12: =F11+IF(ISNUMBER(G11),LOOKUP(G11,$A$5:$A$8,$B$5:$B$8),0) -> 364.5 | H12: =H11+IF(ISNUMBER(I11),LOOKUP(I11,$A$5:$A$8,$B$5:$B$8),0) -> 121.5
A13: 3 | B13: =B12+IF(ISNUMBER(C12),LOOKUP(C12,$A$5:$A$8,$B$5:$B$8),0) -> 283.5 | D13: =D12+IF(ISNUMBER(E12),LOOKUP(E12,$A$5:$A$8,$B$5:$B$8),0) -> 202.5 | F13: =F12+IF(ISNUMBER(G12),LOOKUP(G12,$A$5:$A$8,$B$5:$B$8),0) -> 364.5 | H13: =H12+IF(ISNUMBER(I12),LOOKUP(I12,$A$5:$A$8,$B$5:$B$8),0) -> 121.5
A14: 4 | B14: =B13+IF(ISNUMBER(C13),LOOKUP(C13,$A$5:$A$8,$B$5:$B$8),0) -> 283.5 | D14: =D13+IF(ISNUMBER(E13),LOOKUP(E13,$A$5:$A$8,$B$5:$B$8),0) -> 202.5 | F14: =F13+IF(ISNUMBER(G13),LOOKUP(G13,$A$5:$A$8,$B$5:$B$8),0) -> 364.5 | H14: =H13+IF(ISNUMBER(I13),LOOKUP(I13,$A$5:$A$8,$B$5:$B$8),0) -> 121.5
A15: 5 | B15: =B14+IF(ISNUMBER(C14),LOOKUP(C14,$A$5:$A$8,$B$5:$B$8),0) -> 283.5 | D15: =D14+IF(ISNUMBER(E14),LOOKUP(E14,$A$5:$A$8,$B$5:$B$8),0) -> 202.5 | F15: =F14+IF(ISNUMBER(G14),LOOKUP(G14,$A$5:$A$8,$B$5:$B$8),0) -> 364.5 | H15: =H14+IF(ISNUMBER(I14),LOOKUP(I14,$A$5:$A$8,$B$5:$B$8),0) -> 121.5
A16: 6 | B16: =B15+IF(ISNUMBER(C15),LOOKUP(C15,$A$5:$A$8,$B$5:$B$8),0) -> 283.5 | D16: =D15+IF(ISNUMBER(E15),LOOKUP(E15,$A$5:$A$8,$B$5:$B$8),0) -> 202.5 | F16: =F15+IF(ISNUMBER(G15),LOOKUP(G15,$A$5:$A$8,$B$5:$B$8),0) -> 364.5 | H16: =H15+IF(ISNUMBER(I15),LOOKUP(I15,$A$5:$A$8,$B$5:$B$8),0) -> 121.5
A17: 7 | B17: =B16+IF(ISNUMBER(C16),LOOKUP(C16,$A$5:$A$8,$B$5:$B$8),0) -> 283.5 | D17: =D16+IF(ISNUMBER(E16),LOOKUP(E16,$A$5:$A$8,$B$5:$B$8),0) -> 202.5 | F17: =F16+IF(ISNUMBER(G16),LOOKUP(G16,$A$5:$A$8,$B$5:$B$8),0) -> 364.5 | H17: =H16+IF(ISNUMBER(I16),LOOKUP(I16,$A$5:$A$8,$B$5:$B$8),0) -> 121.5
A18: 8 | B18: =B17+IF(ISNUMBER(C17),LOOKUP(C17,$A$5:$A$8,$B$5:$B$8),0) -> 283.5 | D18: =D17+IF(ISNUMBER(E17),LOOKUP(E17,$A$5:$A$8,$B$5:$B$8),0) -> 202.5 | F18: =F17+IF(ISNUMBER(G17),LOOKUP(G17,$A$5:$A$8,$B$5:$B$8),0) -> 364.5 | H18: =H17+IF(ISNUMBER(I17),LOOKUP(I17,$A$5:$A$8,$B$5:$B$8),0) -> 121.5
A19: 9 | B19: =B18+IF(ISNUMBER(C18),LOOKUP(C18,$A$5:$A$8,$B$5:$B$8),0) -> 283.5 | D19: =D18+IF(ISNUMBER(E18),LOOKUP(E18,$A$5:$A$8,$B$5:$B$8),0) -> 202.5 | F19: =F18+IF(ISNUMBER(G18),LOOKUP(G18,$A$5:$A$8,$B$5:$B$8),0) -> 364.5 | H19: =H18+IF(ISNUMBER(I18),LOOKUP(I18,$A$5:$A$8,$B$5:$B$8),0) -> 121.5
A20: 10 | B20: =B19+IF(ISNUMBER(C19),LOOKUP(C19,$A$5:$A$8,$B$5:$B$8),0) -> 283.5 | D20: =D19+IF(ISNUMBER(E19),LOOKUP(E19,$A$5:$A$8,$B$5:$B$8),0) -> 202.5 | F20: =F19+IF(ISNUMBER(G19),LOOKUP(G19,$A$5:$A$8,$B$5:$B$8),0) -> 364.5 | H20: =H19+IF(ISNUMBER(I19),LOOKUP(I19,$A$5:$A$8,$B$5:$B$8),0) -> 121.5
A21: 11 | B21: =B20+IF(ISNUMBER(C20),LOOKUP(C20,$A$5:$A$8,$B$5:$B$8),0) -> 283.5 | D21: =D20+IF(ISNUMBER(E20),LOOKUP(E20,$A$5:$A$8,$B$5:$B$8),0) -> 202.5 | F21: =F20+IF(ISNUMBER(G20),LOOKUP(G20,$A$5:$A$8,$B$5:$B$8),0) -> 364.5 | H21: =H20+IF(ISNUMBER(I20),LOOKUP(I20,$A$5:$A$8,$B$5:$B$8),0) -> 121.5
A22: 12 | B22: =B21+IF(ISNUMBER(C21),LOOKUP(C21,$A$5:$A$8,$B$5:$B$8),0) -> 283.5 | D22: =D21+IF(ISNUMBER(E21),LOOKUP(E21,$A$5:$A$8,$B$5:$B$8),0) -> 202.5 | F22: =F21+IF(ISNUMBER(G21),LOOKUP(G21,$A$5:$A$8,$B$5:$B$8),0) -> 364.5 | H22: =H21+IF(ISNUMBER(I21),LOOKUP(I21,$A$5:$A$8,$B$5:$B$8),0) -> 121.5
A24: The table uses the low end of each published range. Secondary lifts follow the training max of the lift they support.
