Workbook

Sheet Inputs
A1: Kettlebell workout plan spreadsheet
A2: Kettlebell you use for each lift (lb). Change the yellow cells; every weight in the other sheets updates.
A4: Lift | B4: Kettlebell you use for each lift | C4: Working weight
A5: Swing bell | B5: 36 | C5: =B5*$B$13 -> 36
A6: Goblet squat bell | B6: 36 | C6: =B6*$B$13 -> 36
A7: Press bell (one arm) | B7: 26 | C7: =B7*$B$13 -> 26
A8: Row bell (one arm) | B8: 36 | C8: =B8*$B$13 -> 36
A9: Turkish get-up bell | B9: 26 | C9: =B9*$B$13 -> 26
A10: Clean bell (one arm) | B10: 26 | C10: =B10*$B$13 -> 26
A11: Snatch bell (one arm) | B11: 26 | C11: =B11*$B$13 -> 26
A13: Share of working weight used as the base | B13: 1
A14: Round loads to the nearest (lb) | B14: 1

Sheet Week
A1: Kettlebell workout plan: one week
A2: Weights are formulas: base weight x percentage, rounded to your plate jump.
A4: Day | B4: Lift | C4: Set | D4: Reps | E4: % of base | F4: Weight (lb) | G4: Note
A5: Day 1: Swing and press | B5: Two-hand swing | C5: 1 | D5: 10 | E5: 1 | F5: =ROUND(Inputs!$C$5*E5/Inputs!$B$14,0)*Inputs!$B$14 -> 36
A6: Day 1: Swing and press | B6: Two-hand swing | C6: 2 | D6: 10 | E6: 1 | F6: =ROUND(Inputs!$C$5*E6/Inputs!$B$14,0)*Inputs!$B$14 -> 36
A7: Day 1: Swing and press | B7: Two-hand swing | C7: 3 | D7: 10 | E7: 1 | F7: =ROUND(Inputs!$C$5*E7/Inputs!$B$14,0)*Inputs!$B$14 -> 36
A8: Day 1: Swing and press | B8: Two-hand swing | C8: 4 | D8: 10 | E8: 1 | F8: =ROUND(Inputs!$C$5*E8/Inputs!$B$14,0)*Inputs!$B$14 -> 36
A9: Day 1: Swing and press | B9: Two-hand swing | C9: 5 | D9: 10 | E9: 1 | F9: =ROUND(Inputs!$C$5*E9/Inputs!$B$14,0)*Inputs!$B$14 -> 36
A10: Day 1: Swing and press | B10: Goblet squat | C10: 1 | D10: 8 | E10: 1 | F10: =ROUND(Inputs!$C$6*E10/Inputs!$B$14,0)*Inputs!$B$14 -> 36
A11: Day 1: Swing and press | B11: Goblet squat | C11: 2 | D11: 8 | E11: 1 | F11: =ROUND(Inputs!$C$6*E11/Inputs!$B$14,0)*Inputs!$B$14 -> 36
A12: Day 1: Swing and press | B12: Goblet squat | C12: 3 | D12: 8 | E12: 1 | F12: =ROUND(Inputs!$C$6*E12/Inputs!$B$14,0)*Inputs!$B$14 -> 36
A13: Day 1: Swing and press | B13: Goblet squat | C13: 4 | D13: 8 | E13: 1 | F13: =ROUND(Inputs!$C$6*E13/Inputs!$B$14,0)*Inputs!$B$14 -> 36
A14: Day 1: Swing and press | B14: One-arm press (per side) | C14: 1 | D14: 5 | E14: 1 | F14: =ROUND(Inputs!$C$7*E14/Inputs!$B$14,0)*Inputs!$B$14 -> 26
A15: Day 1: Swing and press | B15: One-arm press (per side) | C15: 2 | D15: 5 | E15: 1 | F15: =ROUND(Inputs!$C$7*E15/Inputs!$B$14,0)*Inputs!$B$14 -> 26
A16: Day 1: Swing and press | B16: One-arm press (per side) | C16: 3 | D16: 5 | E16: 1 | F16: =ROUND(Inputs!$C$7*E16/Inputs!$B$14,0)*Inputs!$B$14 -> 26
A17: Day 1: Swing and press | B17: One-arm press (per side) | C17: 4 | D17: 5 | E17: 1 | F17: =ROUND(Inputs!$C$7*E17/Inputs!$B$14,0)*Inputs!$B$14 -> 26
A18: Day 1: Swing and press | B18: One-arm row (per side) | C18: 1 | D18: 8 | E18: 1 | F18: =ROUND(Inputs!$C$8*E18/Inputs!$B$14,0)*Inputs!$B$14 -> 36
A19: Day 1: Swing and press | B19: One-arm row (per side) | C19: 2 | D19: 8 | E19: 1 | F19: =ROUND(Inputs!$C$8*E19/Inputs!$B$14,0)*Inputs!$B$14 -> 36
A20: Day 1: Swing and press | B20: One-arm row (per side) | C20: 3 | D20: 8 | E20: 1 | F20: =ROUND(Inputs!$C$8*E20/Inputs!$B$14,0)*Inputs!$B$14 -> 36
A21: Day 1: Swing and press | B21: One-arm row (per side) | C21: 4 | D21: 8 | E21: 1 | F21: =ROUND(Inputs!$C$8*E21/Inputs!$B$14,0)*Inputs!$B$14 -> 36
A22: Day 2: Get-up and clean | B22: Turkish get-up (singles, per side) | C22: 1 | D22: 1 | E22: 1 | F22: =ROUND(Inputs!$C$9*E22/Inputs!$B$14,0)*Inputs!$B$14 -> 26
A23: Day 2: Get-up and clean | B23: Turkish get-up (singles, per side) | C23: 2 | D23: 1 | E23: 1 | F23: =ROUND(Inputs!$C$9*E23/Inputs!$B$14,0)*Inputs!$B$14 -> 26
A24: Day 2: Get-up and clean | B24: Turkish get-up (singles, per side) | C24: 3 | D24: 1 | E24: 1 | F24: =ROUND(Inputs!$C$9*E24/Inputs!$B$14,0)*Inputs!$B$14 -> 26
A25: Day 2: Get-up and clean | B25: One-arm clean (per side) | C25: 1 | D25: 5 | E25: 1 | F25: =ROUND(Inputs!$C$10*E25/Inputs!$B$14,0)*Inputs!$B$14 -> 26
A26: Day 2: Get-up and clean | B26: One-arm clean (per side) | C26: 2 | D26: 5 | E26: 1 | F26: =ROUND(Inputs!$C$10*E26/Inputs!$B$14,0)*Inputs!$B$14 -> 26
A27: Day 2: Get-up and clean | B27: One-arm clean (per side) | C27: 3 | D27: 5 | E27: 1 | F27: =ROUND(Inputs!$C$10*E27/Inputs!$B$14,0)*Inputs!$B$14 -> 26
A28: Day 2: Get-up and clean | B28: One-arm clean (per side) | C28: 4 | D28: 5 | E28: 1 | F28: =ROUND(Inputs!$C$10*E28/Inputs!$B$14,0)*Inputs!$B$14 -> 26
A29: Day 2: Get-up and clean | B29: Goblet squat | C29: 1 | D29: 10 | E29: 1 | F29: =ROUND(Inputs!$C$6*E29/Inputs!$B$14,0)*Inputs!$B$14 -> 36
A30: Day 2: Get-up and clean | B30: Goblet squat | C30: 2 | D30: 10 | E30: 1 | F30: =ROUND(Inputs!$C$6*E30/Inputs!$B$14,0)*Inputs!$B$14 -> 36
A31: Day 2: Get-up and clean | B31: Goblet squat | C31: 3 | D31: 10 | E31: 1 | F31: =ROUND(Inputs!$C$6*E31/Inputs!$B$14,0)*Inputs!$B$14 -> 36
A32: Day 2: Get-up and clean | B32: One-arm row (per side) | C32: 1 | D32: 10 | E32: 1 | F32: =ROUND(Inputs!$C$8*E32/Inputs!$B$14,0)*Inputs!$B$14 -> 36
A33: Day 2: Get-up and clean | B33: One-arm row (per side) | C33: 2 | D33: 10 | E33: 1 | F33: =ROUND(Inputs!$C$8*E33/Inputs!$B$14,0)*Inputs!$B$14 -> 36
A34: Day 2: Get-up and clean | B34: One-arm row (per side) | C34: 3 | D34: 10 | E34: 1 | F34: =ROUND(Inputs!$C$8*E34/Inputs!$B$14,0)*Inputs!$B$14 -> 36
A35: Day 3: Snatch and swings | B35: One-arm snatch (per side) | C35: 1 | D35: 5 | E35: 1 | F35: =ROUND(Inputs!$C$11*E35/Inputs!$B$14,0)*Inputs!$B$14 -> 26
A36: Day 3: Snatch and swings | B36: One-arm snatch (per side) | C36: 2 | D36: 5 | E36: 1 | F36: =ROUND(Inputs!$C$11*E36/Inputs!$B$14,0)*Inputs!$B$14 -> 26
A37: Day 3: Snatch and swings | B37: One-arm snatch (per side) | C37: 3 | D37: 5 | E37: 1 | F37: =ROUND(Inputs!$C$11*E37/Inputs!$B$14,0)*Inputs!$B$14 -> 26
A38: Day 3: Snatch and swings | B38: One-arm snatch (per side) | C38: 4 | D38: 5 | E38: 1 | F38: =ROUND(Inputs!$C$11*E38/Inputs!$B$14,0)*Inputs!$B$14 -> 26
A39: Day 3: Snatch and swings | B39: One-arm snatch (per side) | C39: 5 | D39: 5 | E39: 1 | F39: =ROUND(Inputs!$C$11*E39/Inputs!$B$14,0)*Inputs!$B$14 -> 26
A40: Day 3: Snatch and swings | B40: One-arm press (per side) | C40: 1 | D40: 8 | E40: 1 | F40: =ROUND(Inputs!$C$7*E40/Inputs!$B$14,0)*Inputs!$B$14 -> 26
A41: Day 3: Snatch and swings | B41: One-arm press (per side) | C41: 2 | D41: 8 | E41: 1 | F41: =ROUND(Inputs!$C$7*E41/Inputs!$B$14,0)*Inputs!$B$14 -> 26
...

Sheet Progress
A1: Kettlebell workout plan: weight on the bar
A2: Each column is one lift. Row 1 is the first time you do it. The increment row is yours to change.
A4: Times you have done the lift | B4: Swing bell | C4: Goblet squat bell | D4: Press bell (one arm) | E4: Row bell (one arm) | F4: Turkish get-up bell | G4: Clean bell (one arm) | H4: Snatch bell (one arm)
A5: Add each time (lb) | B5: 9 | C5: 9 | D5: 9 | E5: 9 | F5: 9 | G5: 9 | H5: 9
A6: 1 | B6: =Inputs!$C$5+($A6-1)*B$5 -> 36 | C6: =Inputs!$C$6+($A6-1)*C$5 -> 36 | D6: =Inputs!$C$7+($A6-1)*D$5 -> 26 | E6: =Inputs!$C$8+($A6-1)*E$5 -> 36 | F6: =Inputs!$C$9+($A6-1)*F$5 -> 26 | G6: =Inputs!$C$10+($A6-1)*G$5 -> 26 | H6: =Inputs!$C$11+($A6-1)*H$5 -> 26
A7: 2 | B7: =Inputs!$C$5+($A7-1)*B$5 -> 45 | C7: =Inputs!$C$6+($A7-1)*C$5 -> 45 | D7: =Inputs!$C$7+($A7-1)*D$5 -> 35 | E7: =Inputs!$C$8+($A7-1)*E$5 -> 45 | F7: =Inputs!$C$9+($A7-1)*F$5 -> 35 | G7: =Inputs!$C$10+($A7-1)*G$5 -> 35 | H7: =Inputs!$C$11+($A7-1)*H$5 -> 35
A8: 3 | B8: =Inputs!$C$5+($A8-1)*B$5 -> 54 | C8: =Inputs!$C$6+($A8-1)*C$5 -> 54 | D8: =Inputs!$C$7+($A8-1)*D$5 -> 44 | E8: =Inputs!$C$8+($A8-1)*E$5 -> 54 | F8: =Inputs!$C$9+($A8-1)*F$5 -> 44 | G8: =Inputs!$C$10+($A8-1)*G$5 -> 44 | H8: =Inputs!$C$11+($A8-1)*H$5 -> 44
A9: 4 | B9: =Inputs!$C$5+($A9-1)*B$5 -> 63 | C9: =Inputs!$C$6+($A9-1)*C$5 -> 63 | D9: =Inputs!$C$7+($A9-1)*D$5 -> 53 | E9: =Inputs!$C$8+($A9-1)*E$5 -> 63 | F9: =Inputs!$C$9+($A9-1)*F$5 -> 53 | G9: =Inputs!$C$10+($A9-1)*G$5 -> 53 | H9: =Inputs!$C$11+($A9-1)*H$5 -> 53
A10: 5 | B10: =Inputs!$C$5+($A10-1)*B$5 -> 72 | C10: =Inputs!$C$6+($A10-1)*C$5 -> 72 | D10: =Inputs!$C$7+($A10-1)*D$5 -> 62 | E10: =Inputs!$C$8+($A10-1)*E$5 -> 72 | F10: =Inputs!$C$9+($A10-1)*F$5 -> 62 | G10: =Inputs!$C$10+($A10-1)*G$5 -> 62 | H10: =Inputs!$C$11+($A10-1)*H$5 -> 62
A11: 6 | B11: =Inputs!$C$5+($A11-1)*B$5 -> 81 | C11: =Inputs!$C$6+($A11-1)*C$5 -> 81 | D11: =Inputs!$C$7+($A11-1)*D$5 -> 71 | E11: =Inputs!$C$8+($A11-1)*E$5 -> 81 | F11: =Inputs!$C$9+($A11-1)*F$5 -> 71 | G11: =Inputs!$C$10+($A11-1)*G$5 -> 71 | H11: =Inputs!$C$11+($A11-1)*H$5 -> 71
A12: 7 | B12: =Inputs!$C$5+($A12-1)*B$5 -> 90 | C12: =Inputs!$C$6+($A12-1)*C$5 -> 90 | D12: =Inputs!$C$7+($A12-1)*D$5 -> 80 | E12: =Inputs!$C$8+($A12-1)*E$5 -> 90 | F12: =Inputs!$C$9+($A12-1)*F$5 -> 80 | G12: =Inputs!$C$10+($A12-1)*G$5 -> 80 | H12: =Inputs!$C$11+($A12-1)*H$5 -> 80
A13: 8 | B13: =Inputs!$C$5+($A13-1)*B$5 -> 99 | C13: =Inputs!$C$6+($A13-1)*C$5 -> 99 | D13: =Inputs!$C$7+($A13-1)*D$5 -> 89 | E13: =Inputs!$C$8+($A13-1)*E$5 -> 99 | F13: =Inputs!$C$9+($A13-1)*F$5 -> 89 | G13: =Inputs!$C$10+($A13-1)*G$5 -> 89 | H13: =Inputs!$C$11+($A13-1)*H$5 -> 89
A14: 9 | B14: =Inputs!$C$5+($A14-1)*B$5 -> 108 | C14: =Inputs!$C$6+($A14-1)*C$5 -> 108 | D14: =Inputs!$C$7+($A14-1)*D$5 -> 98 | E14: =Inputs!$C$8+($A14-1)*E$5 -> 108 | F14: =Inputs!$C$9+($A14-1)*F$5 -> 98 | G14: =Inputs!$C$10+($A14-1)*G$5 -> 98 | H14: =Inputs!$C$11+($A14-1)*H$5 -> 98
A15: 10 | B15: =Inputs!$C$5+($A15-1)*B$5 -> 117 | C15: =Inputs!$C$6+($A15-1)*C$5 -> 117 | D15: =Inputs!$C$7+($A15-1)*D$5 -> 107 | E15: =Inputs!$C$8+($A15-1)*E$5 -> 117 | F15: =Inputs!$C$9+($A15-1)*F$5 -> 107 | G15: =Inputs!$C$10+($A15-1)*G$5 -> 107 | H15: =Inputs!$C$11+($A15-1)*H$5 -> 107
A16: 11 | B16: =Inputs!$C$5+($A16-1)*B$5 -> 126 | C16: =Inputs!$C$6+($A16-1)*C$5 -> 126 | D16: =Inputs!$C$7+($A16-1)*D$5 -> 116 | E16: =Inputs!$C$8+($A16-1)*E$5 -> 126 | F16: =Inputs!$C$9+($A16-1)*F$5 -> 116 | G16: =Inputs!$C$10+($A16-1)*G$5 -> 116 | H16: =Inputs!$C$11+($A16-1)*H$5 -> 116
A17: 12 | B17: =Inputs!$C$5+($A17-1)*B$5 -> 135 | C17: =Inputs!$C$6+($A17-1)*C$5 -> 135 | D17: =Inputs!$C$7+($A17-1)*D$5 -> 125 | E17: =Inputs!$C$8+($A17-1)*E$5 -> 135 | F17: =Inputs!$C$9+($A17-1)*F$5 -> 125 | G17: =Inputs!$C$10+($A17-1)*G$5 -> 125 | H17: =Inputs!$C$11+($A17-1)*H$5 -> 125
... A29: 24 | B29: =Inputs!$C$5+($A29-1)*B$5 -> 243 | C29: =Inputs!$C$6+($A29-1)*C$5 -> 243 | D29: =Inputs!$C$7+($A29-1)*D$5 -> 233 | E29: =Inputs!$C$8+($A29-1)*E$5 -> 243 | F29: =Inputs!$C$9+($A29-1)*F$5 -> 233 | G29: =Inputs!$C$10+($A29-1)*G$5 -> 233 | H29: =Inputs!$C$11+($A29-1)*H$5 -> 233
A31: Missed a weight three times? Take about 20% off the bar and build back up.
