Workbook

Sheet Inputs
A1: Cube Method spreadsheet
A2: Your current one-rep max on squat, bench press and deadlift, and your working weight for the accessory lifts (lb). Change the yellow cells; every weight in the other sheets updates.
A4: Lift | B4: Your current one-rep max on squat, bench press and deadlift, and your working weight for the accessory lifts | C4: Training max
A5: Deadlift | B5: 405 | C5: =B5*$B$19 -> 405
A6: Bench press | B6: 225 | C6: =B6*$B$19 -> 225
A7: Squat | B7: 315 | C7: =B7*$B$19 -> 315
A8: Barbell row (weight for your sets of 8) | B8: 155 | C8: =B8*$B$19 -> 155
A9: Good morning (weight for your sets of 8) | B9: 115 | C9: =B9*$B$19 -> 115
A10: Incline dumbbell press, per hand (weight for your sets of 8) | B10: 55 | C10: =B10*$B$19 -> 55
A11: Triceps pushdown (weight for your sets of 12) | B11: 50 | C11: =B11*$B$19 -> 50
A12: Romanian deadlift (weight for your sets of 8) | B12: 225 | C12: =B12*$B$19 -> 225
A13: Leg curl (weight for your sets of 12) | B13: 70 | C13: =B13*$B$19 -> 70
A14: Overhead press (weight for your sets of 10) | B14: 85 | C14: =B14*$B$19 -> 85
A15: Leg press (weight for your sets of 12) | B15: 270 | C15: =B15*$B$19 -> 270
A16: Lateral raise, per hand (weight for your sets of 12) | B16: 15 | C16: =B16*$B$19 -> 15
A17: Dumbbell curl, per hand (weight for your sets of 12) | B17: 25 | C17: =B17*$B$19 -> 25
A19: Training max as a share of your max | B19: 1
A20: Round loads to the nearest (lb) | B20: 5

Sheet Week
A1: Cube Method: one week
A2: Weights are formulas: base weight x percentage, rounded to your plate jump.
A4: Day | B4: Lift | C4: Set | D4: Reps | E4: % of base | F4: Weight (lb) | G4: Note
A5: Week 1, day 1: Deadlift (heavy) | B5: Deadlift, heavy doubles | C5: 1 | D5: 2 | E5: 0.8 | F5: =ROUND(Inputs!$C$5*E5/Inputs!$B$20,0)*Inputs!$B$20 -> 325
A6: Week 1, day 1: Deadlift (heavy) | B6: Deadlift, heavy doubles | C6: 2 | D6: 2 | E6: 0.8 | F6: =ROUND(Inputs!$C$5*E6/Inputs!$B$20,0)*Inputs!$B$20 -> 325
A7: Week 1, day 1: Deadlift (heavy) | B7: Deadlift, heavy doubles | C7: 3 | D7: 2 | E7: 0.8 | F7: =ROUND(Inputs!$C$5*E7/Inputs!$B$20,0)*Inputs!$B$20 -> 325
A8: Week 1, day 1: Deadlift (heavy) | B8: Deadlift, heavy doubles | C8: 4 | D8: 2 | E8: 0.8 | F8: =ROUND(Inputs!$C$5*E8/Inputs!$B$20,0)*Inputs!$B$20 -> 325
A9: Week 1, day 1: Deadlift (heavy) | B9: Deadlift, heavy doubles | C9: 5 | D9: 2 | E9: 0.8 | F9: =ROUND(Inputs!$C$5*E9/Inputs!$B$20,0)*Inputs!$B$20 -> 325
A10: Week 1, day 1: Deadlift (heavy) | B10: Barbell row | C10: 1 | D10: 8 | E10: 1 | F10: =ROUND(Inputs!$C$8*E10/Inputs!$B$20,0)*Inputs!$B$20 -> 155
A11: Week 1, day 1: Deadlift (heavy) | B11: Barbell row | C11: 2 | D11: 8 | E11: 1 | F11: =ROUND(Inputs!$C$8*E11/Inputs!$B$20,0)*Inputs!$B$20 -> 155
A12: Week 1, day 1: Deadlift (heavy) | B12: Barbell row | C12: 3 | D12: 8 | E12: 1 | F12: =ROUND(Inputs!$C$8*E12/Inputs!$B$20,0)*Inputs!$B$20 -> 155
A13: Week 1, day 1: Deadlift (heavy) | B13: Barbell row | C13: 4 | D13: 8 | E13: 1 | F13: =ROUND(Inputs!$C$8*E13/Inputs!$B$20,0)*Inputs!$B$20 -> 155
A14: Week 1, day 1: Deadlift (heavy) | B14: Good morning | C14: 1 | D14: 8 | E14: 1 | F14: =ROUND(Inputs!$C$9*E14/Inputs!$B$20,0)*Inputs!$B$20 -> 115
A15: Week 1, day 1: Deadlift (heavy) | B15: Good morning | C15: 2 | D15: 8 | E15: 1 | F15: =ROUND(Inputs!$C$9*E15/Inputs!$B$20,0)*Inputs!$B$20 -> 115
A16: Week 1, day 1: Deadlift (heavy) | B16: Good morning | C16: 3 | D16: 8 | E16: 1 | F16: =ROUND(Inputs!$C$9*E16/Inputs!$B$20,0)*Inputs!$B$20 -> 115
A17: Week 1, day 2: Bench press (explosive) | B17: Bench press, explosive triples | C17: 1 | D17: 3 | E17: 0.6 | F17: =ROUND(Inputs!$C$6*E17/Inputs!$B$20,0)*Inputs!$B$20 -> 135
A18: Week 1, day 2: Bench press (explosive) | B18: Bench press, explosive triples | C18: 2 | D18: 3 | E18: 0.6 | F18: =ROUND(Inputs!$C$6*E18/Inputs!$B$20,0)*Inputs!$B$20 -> 135
A19: Week 1, day 2: Bench press (explosive) | B19: Bench press, explosive triples | C19: 3 | D19: 3 | E19: 0.6 | F19: =ROUND(Inputs!$C$6*E19/Inputs!$B$20,0)*Inputs!$B$20 -> 135
A20: Week 1, day 2: Bench press (explosive) | B20: Bench press, explosive triples | C20: 4 | D20: 3 | E20: 0.6 | F20: =ROUND(Inputs!$C$6*E20/Inputs!$B$20,0)*Inputs!$B$20 -> 135
A21: Week 1, day 2: Bench press (explosive) | B21: Bench press, explosive triples | C21: 5 | D21: 3 | E21: 0.6 | F21: =ROUND(Inputs!$C$6*E21/Inputs!$B$20,0)*Inputs!$B$20 -> 135
A22: Week 1, day 2: Bench press (explosive) | B22: Bench press, explosive triples | C22: 6 | D22: 3 | E22: 0.6 | F22: =ROUND(Inputs!$C$6*E22/Inputs!$B$20,0)*Inputs!$B$20 -> 135
A23: Week 1, day 2: Bench press (explosive) | B23: Bench press, explosive triples | C23: 7 | D23: 3 | E23: 0.6 | F23: =ROUND(Inputs!$C$6*E23/Inputs!$B$20,0)*Inputs!$B$20 -> 135
A24: Week 1, day 2: Bench press (explosive) | B24: Bench press, explosive triples | C24: 8 | D24: 3 | E24: 0.6 | F24: =ROUND(Inputs!$C$6*E24/Inputs!$B$20,0)*Inputs!$B$20 -> 135
A25: Week 1, day 2: Bench press (explosive) | B25: Incline dumbbell press | C25: 1 | D25: 8 | E25: 1 | F25: =ROUND(Inputs!$C$10*E25/Inputs!$B$20,0)*Inputs!$B$20 -> 55
A26: Week 1, day 2: Bench press (explosive) | B26: Incline dumbbell press | C26: 2 | D26: 8 | E26: 1 | F26: =ROUND(Inputs!$C$10*E26/Inputs!$B$20,0)*Inputs!$B$20 -> 55
A27: Week 1, day 2: Bench press (explosive) | B27: Incline dumbbell press | C27: 3 | D27: 8 | E27: 1 | F27: =ROUND(Inputs!$C$10*E27/Inputs!$B$20,0)*Inputs!$B$20 -> 55
A28: Week 1, day 2: Bench press (explosive) | B28: Incline dumbbell press | C28: 4 | D28: 8 | E28: 1 | F28: =ROUND(Inputs!$C$10*E28/Inputs!$B$20,0)*Inputs!$B$20 -> 55
A29: Week 1, day 2: Bench press (explosive) | B29: Triceps pushdown | C29: 1 | D29: 12 | E29: 1 | F29: =ROUND(Inputs!$C$11*E29/Inputs!$B$20,0)*Inputs!$B$20 -> 50
A30: Week 1, day 2: Bench press (explosive) | B30: Triceps pushdown | C30: 2 | D30: 12 | E30: 1 | F30: =ROUND(Inputs!$C$11*E30/Inputs!$B$20,0)*Inputs!$B$20 -> 50
A31: Week 1, day 2: Bench press (explosive) | B31: Triceps pushdown | C31: 3 | D31: 12 | E31: 1 | F31: =ROUND(Inputs!$C$11*E31/Inputs!$B$20,0)*Inputs!$B$20 -> 50
A32: Week 1, day 3: Squat (reps) | B32: Squat, rep sets | C32: 1 | D32: 8 | E32: 0.7 | F32: =ROUND(Inputs!$C$7*E32/Inputs!$B$20,0)*Inputs!$B$20 -> 220
A33: Week 1, day 3: Squat (reps) | B33: Squat, rep sets | C33: 2 | D33: 8 | E33: 0.7 | F33: =ROUND(Inputs!$C$7*E33/Inputs!$B$20,0)*Inputs!$B$20 -> 220
A34: Week 1, day 3: Squat (reps) | B34: Squat, rep sets | C34: 3 | D34: 8 | E34: 0.7 | F34: =ROUND(Inputs!$C$7*E34/Inputs!$B$20,0)*Inputs!$B$20 -> 220 | G34: AMRAP: as many good reps as you can
A35: Week 1, day 3: Squat (reps) | B35: Romanian deadlift | C35: 1 | D35: 8 | E35: 1 | F35: =ROUND(Inputs!$C$12*E35/Inputs!$B$20,0)*Inputs!$B$20 -> 225
A36: Week 1, day 3: Squat (reps) | B36: Romanian deadlift | C36: 2 | D36: 8 | E36: 1 | F36: =ROUND(Inputs!$C$12*E36/Inputs!$B$20,0)*Inputs!$B$20 -> 225
A37: Week 1, day 3: Squat (reps) | B37: Romanian deadlift | C37: 3 | D37: 8 | E37: 1 | F37: =ROUND(Inputs!$C$12*E37/Inputs!$B$20,0)*Inputs!$B$20 -> 225
A38: Week 1, day 3: Squat (reps) | B38: Leg curl | C38: 1 | D38: 12 | E38: 1 | F38: =ROUND(Inputs!$C$13*E38/Inputs!$B$20,0)*Inputs!$B$20 -> 70
A39: Week 1, day 3: Squat (reps) | B39: Leg curl | C39: 2 | D39: 12 | E39: 1 | F39: =ROUND(Inputs!$C$13*E39/Inputs!$B$20,0)*Inputs!$B$20 -> 70
A40: Week 1, day 3: Squat (reps) | B40: Leg curl | C40: 3 | D40: 12 | E40: 1 | F40: =ROUND(Inputs!$C$13*E40/Inputs!$B$20,0)*Inputs!$B$20 -> 70
A41: Week 2, day 1: Deadlift (explosive) | B41: Deadlift, explosive triples | C41: 1 | D41: 3 | E41: 0.6 | F41: =ROUND(Inputs!$C$5*E41/Inputs!$B$20,0)*Inputs!$B$20 -> 245
A42: Week 2, day 1: Deadlift (explosive) | B42: Deadlift, explosive triples | C42: 2 | D42: 3 | E42: 0.6 | F42: =ROUND(Inputs!$C$5*E42/Inputs!$B$20,0)*Inputs!$B$20 -> 245
A43: Week 2, day 1: Deadlift (explosive) | B43: Deadlift, explosive triples | C43: 3 | D43: 3 | E43: 0.6 | F43: =ROUND(Inputs!$C$5*E43/Inputs!$B$20,0)*Inputs!$B$20 -> 245
A44: Week 2, day 1: Deadlift (explosive) | B44: Deadlift, explosive triples | C44: 4 | D44: 3 | E44: 0.6 | F44: =ROUND(Inputs!$C$5*E44/Inputs!$B$20,0)*Inputs!$B$20 -> 245
A45: Week 2, day 1: Deadlift (explosive) | B45: Deadlift, explosive triples | C45: 5 | D45: 3 | E45: 0.6 | F45: =ROUND(Inputs!$C$5*E45/Inputs!$B$20,0)*Inputs!$B$20 -> 245
A46: Week 2, day 1: Deadlift (explosive) | B46: Deadlift, explosive triples | C46: 6 | D46: 3 | E46: 0.6 | F46: =ROUND(Inputs!$C$5*E46/Inputs!$B$20,0)*Inputs!$B$20 -> 245
A47: Week 2, day 1: Deadlift (explosive) | B47: Deadlift, explosive triples | C47: 7 | D47: 3 | E47: 0.6 | F47: =ROUND(Inputs!$C$5*E47/Inputs!$B$20,0)*Inputs!$B$20 -> 245
A48: Week 2, day 1: Deadlift (explosive) | B48: Deadlift, explosive triples | C48: 8 | D48: 3 | E48: 0.6 | F48: =ROUND(Inputs!$C$5*E48/Inputs!$B$20,0)*Inputs!$B$20 -> 245
A49: Week 2, day 1: Deadlift (explosive) | B49: Barbell row | C49: 1 | D49: 8 | E49: 1 | F49: =ROUND(Inputs!$C$8*E49/Inputs!$B$20,0)*Inputs!$B$20 -> 155
A50: Week 2, day 1: Deadlift (explosive) | B50: Barbell row | C50: 2 | D50: 8 | E50: 1 | F50: =ROUND(Inputs!$C$8*E50/Inputs!$B$20,0)*Inputs!$B$20 -> 155
A51: Week 2, day 1: Deadlift (explosive) | B51: Barbell row | C51: 3 | D51: 8 | E51: 1 | F51: =ROUND(Inputs!$C$8*E51/Inputs!$B$20,0)*Inputs!$B$20 -> 155
A52: Week 2, day 1: Deadlift (explosive) | B52: Barbell row | C52: 4 | D52: 8 | E52: 1 | F52: =ROUND(Inputs!$C$8*E52/Inputs!$B$20,0)*Inputs!$B$20 -> 155
A53: Week 2, day 1: Deadlift (explosive) | B53: Good morning | C53: 1 | D53: 8 | E53: 1 | F53: =ROUND(Inputs!$C$9*E53/Inputs!$B$20,0)*Inputs!$B$20 -> 115
A54: Week 2, day 1: Deadlift (explosive) | B54: Good morning | C54: 2 | D54: 8 | E54: 1 | F54: =ROUND(Inputs!$C$9*E54/Inputs!$B$20,0)*Inputs!$B$20 -> 115
A55: Week 2, day 1: Deadlift (explosive) | B55: Good morning | C55: 3 | D55: 8 | E55: 1 | F55: =ROUND(Inputs!$C$9*E55/Inputs!$B$20,0)*Inputs!$B$20 -> 115
A56: Week 2, day 2: Bench press (reps) | B56: Bench press, rep sets | C56: 1 | D56: 8 | E56: 0.7 | F56: =ROUND(Inputs!$C$6*E56/Inputs!$B$20,0)*Inputs!$B$20 -> 160
A57: Week 2, day 2: Bench press (reps) | B57: Bench press, rep sets | C57: 2 | D57: 8 | E57: 0.7 | F57: =ROUND(Inputs!$C$6*E57/Inputs!$B$20,0)*Inputs!$B$20 -> 160
A58: Week 2, day 2: Bench press (reps) | B58: Bench press, rep sets | C58: 3 | D58: 8 | E58: 0.7 | F58: =ROUND(Inputs!$C$6*E58/Inputs!$B$20,0)*Inputs!$B$20 -> 160 | G58: AMRAP: as many good reps as you can
A59: Week 2, day 2: Bench press (reps) | B59: Incline dumbbell press | C59: 1 | D59: 8 | E59: 1 | F59: =ROUND(Inputs!$C$10*E59/Inputs!$B$20,0)*Inputs!$B$20 -> 55
A60: Week 2, day 2: Bench press (reps) | B60: Incline dumbbell press | C60: 2 | D60: 8 | E60: 1 | F60: =ROUND(Inputs!$C$10*E60/Inputs!$B$20,0)*Inputs!$B$20 -> 55
A61: Week 2, day 2: Bench press (reps) | B61: Incline dumbbell press | C61: 3 | D61: 8 | E61: 1 | F61: =ROUND(Inputs!$C$10*E61/Inputs!$B$20,0)*Inputs!$B$20 -> 55
A62: Week 2, day 2: Bench press (reps) | B62: Incline dumbbell press | C62: 4 | D62: 8 | E62: 1 | F62: =ROUND(Inputs!$C$10*E62/Inputs!$B$20,0)*Inputs!$B$20 -> 55
A63: Week 2, day 2: Bench press (reps) | B63: Triceps pushdown | C63: 1 | D63: 12 | E63: 1 | F63: =ROUND(Inputs!$C$11*E63/Inputs!$B$20,0)*Inputs!$B$20 -> 50
A64: Week 2, day 2: Bench press (reps) | B64: Triceps pushdown | C64: 2 | D64: 12 | E64: 1 | F64: =ROUND(Inputs!$C$11*E64/Inputs!$B$20,0)*Inputs!$B$20 -> 50
A65: Week 2, day 2: Bench press (reps) | B65: Triceps pushdown | C65: 3 | D65: 12 | E65: 1 | F65: =ROUND(Inputs!$C$11*E65/Inputs!$B$20,0)*Inputs!$B$20 -> 50
A66: Week 2, day 3: Squat (heavy) | B66: Squat, heavy doubles | C66: 1 | D66: 2 | E66: 0.8 | F66: =ROUND(Inputs!$C$7*E66/Inputs!$B$20,0)*Inputs!$B$20 -> 250
A67: Week 2, day 3: Squat (heavy) | B67: Squat, heavy doubles | C67: 2 | D67: 2 | E67: 0.8 | F67: =ROUND(Inputs!$C$7*E67/Inputs!$B$20,0)*Inputs!$B$20 -> 250
A68: Week 2, day 3: Squat (heavy) | B68: Squat, heavy doubles | C68: 3 | D68: 2 | E68: 0.8 | F68: =ROUND(Inputs!$C$7*E68/Inputs!$B$20,0)*Inputs!$B$20 -> 250
A69: Week 2, day 3: Squat (heavy) | B69: Squat, heavy doubles | C69: 4 | D69: 2 | E69: 0.8 | F69: =ROUND(Inputs!$C$7*E69/Inputs!$B$20,0)*Inputs!$B$20 -> 250
A70: Week 2, day 3: Squat (heavy) | B70: Squat, heavy doubles | C70: 5 | D70: 2 | E70: 0.8 | F70: =ROUND(Inputs!$C$7*E70/Inputs!$B$20,0)*Inputs!$B$20 -> 250
A71: Week 2, day 3: Squat (heavy) | B71: Romanian deadlift | C71: 1 | D71: 8 | E71: 1 | F71: =ROUND(Inputs!$C$12*E71/Inputs!$B$20,0)*Inputs!$B$20 -> 225
A72: Week 2, day 3: Squat (heavy) | B72: Romanian deadlift | C72: 2 | D72: 8 | E72: 1 | F72: =ROUND(Inputs!$C$12*E72/Inputs!$B$20,0)*Inputs!$B$20 -> 225
A73: Week 2, day 3: Squat (heavy) | B73: Romanian deadlift | C73: 3 | D73: 8 | E73: 1 | F73: =ROUND(Inputs!$C$12*E73/Inputs!$B$20,0)*Inputs!$B$20 -> 225
A74: Week 2, day 3: Squat (heavy) | B74: Leg curl | C74: 1 | D74: 12 | E74: 1 | F74: =ROUND(Inputs!$C$13*E74/Inputs!$B$20,0)*Inputs!$B$20 -> 70
A75: Week 2, day 3: Squat (heavy) | B75: Leg curl | C75: 2 | D75: 12 | E75: 1 | F75: =ROUND(Inputs!$C$13*E75/Inputs!$B$20,0)*Inputs!$B$20 -> 70
A76: Week 2, day 3: Squat (heavy) | B76: Leg curl | C76: 3 | D76: 12 | E76: 1 | F76: =ROUND(Inputs!$C$13*E76/Inputs!$B$20,0)*Inputs!$B$20 -> 70
A77: Week 3, day 1: Deadlift (reps) | B77: Deadlift, rep sets | C77: 1 | D77: 8 | E77: 0.7 | F77: =ROUND(Inputs!$C$5*E77/Inputs!$B$20,0)*Inputs!$B$20 -> 285
A78: Week 3, day 1: Deadlift (reps) | B78: Deadlift, rep sets | C78: 2 | D78: 8 | E78: 0.7 | F78: =ROUND(Inputs!$C$5*E78/Inputs!$B$20,0)*Inputs!$B$20 -> 285
A79: Week 3, day 1: Deadlift (reps) | B79: Deadlift, rep sets | C79: 3 | D79: 8 | E79: 0.7 | F79: =ROUND(Inputs!$C$5*E79/Inputs!$B$20,0)*Inputs!$B$20 -> 285 | G79: AMRAP: as many good reps as you can
A80: Week 3, day 1: Deadlift (reps) | B80: Barbell row | C80: 1 | D80: 8 | E80: 1 | F80: =ROUND(Inputs!$C$8*E80/Inputs!$B$20,0)*Inputs!$B$20 -> 155
A81: Week 3, day 1: Deadlift (reps) | B81: Barbell row | C81: 2 | D81: 8 | E81: 1 | F81: =ROUND(Inputs!$C$8*E81/Inputs!$B$20,0)*Inputs!$B$20 -> 155
A82: Week 3, day 1: Deadlift (reps) | B82: Barbell row | C82: 3 | D82: 8 | E82: 1 | F82: =ROUND(Inputs!$C$8*E82/Inputs!$B$20,0)*Inputs!$B$20 -> 155
A83: Week 3, day 1: Deadlift (reps) | B83: Barbell row | C83: 4 | D83: 8 | E83: 1 | F83: =ROUND(Inputs!$C$8*E83/Inputs!$B$20,0)*Inputs!$B$20 -> 155
A84: Week 3, day 1: Deadlift (reps) | B84: Good morning | C84: 1 | D84: 8 | E84: 1 | F84: =ROUND(Inputs!$C$9*E84/Inputs!$B$20,0)*Inputs!$B$20 -> 115
A85: Week 3, day 1: Deadlift (reps) | B85: Good morning | C85: 2 | D85: 8 | E85: 1 | F85: =ROUND(Inputs!$C$9*E85/Inputs!$B$20,0)*Inputs!$B$20 -> 115
A86: Week 3, day 1: Deadlift (reps) | B86: Good morning | C86: 3 | D86: 8 | E86: 1 | F86: =ROUND(Inputs!$C$9*E86/Inputs!$B$20,0)*Inputs!$B$20 -> 115
A87: Week 3, day 2: Bench press (heavy) | B87: Bench press, heavy doubles | C87: 1 | D87: 2 | E87: 0.8 | F87: =ROUND(Inputs!$C$6*E87/Inputs!$B$20,0)*Inputs!$B$20 -> 180
A88: Week 3, day 2: Bench press (heavy) | B88: Bench press, heavy doubles | C88: 2 | D88: 2 | E88: 0.8 | F88: =ROUND(Inputs!$C$6*E88/Inputs!$B$20,0)*Inputs!$B$20 -> 180
A89: Week 3, day 2: Bench press (heavy) | B89: Bench press, heavy doubles | C89: 3 | D89: 2 | E89: 0.8 | F89: =ROUND(Inputs!$C$6*E89/Inputs!$B$20,0)*Inputs!$B$20 -> 180
A90: Week 3, day 2: Bench press (heavy) | B90: Bench press, heavy doubles | C90: 4 | D90: 2 | E90: 0.8 | F90: =ROUND(Inputs!$C$6*E90/Inputs!$B$20,0)*Inputs!$B$20 -> 180
A91: Week 3, day 2: Bench press (heavy) | B91: Bench press, heavy doubles | C91: 5 | D91: 2 | E91: 0.8 | F91: =ROUND(Inputs!$C$6*E91/Inputs!$B$20,0)*Inputs!$B$20 -> 180
A92: Week 3, day 2: Bench press (heavy) | B92: Incline dumbbell press | C92: 1 | D92: 8 | E92: 1 | F92: =ROUND(Inputs!$C$10*E92/Inputs!$B$20,0)*Inputs!$B$20 -> 55
A93: Week 3, day 2: Bench press (heavy) | B93: Incline dumbbell press | C93: 2 | D93: 8 | E93: 1 | F93: =ROUND(Inputs!$C$10*E93/Inputs!$B$20,0)*Inputs!$B$20 -> 55
A94: Week 3, day 2: Bench press (heavy) | B94: Incline dumbbell press | C94: 3 | D94: 8 | E94: 1 | F94: =ROUND(Inputs!$C$10*E94/Inputs!$B$20,0)*Inputs!$B$20 -> 55
A95: Week 3, day 2: Bench press (heavy) | B95: Incline dumbbell press | C95: 4 | D95: 8 | E95: 1 | F95: =ROUND(Inputs!$C$10*E95/Inputs!$B$20,0)*Inputs!$B$20 -> 55
A96: Week 3, day 2: Bench press (heavy) | B96: Triceps pushdown | C96: 1 | D96: 12 | E96: 1 | F96: =ROUND(Inputs!$C$11*E96/Inputs!$B$20,0)*Inputs!$B$20 -> 50
A97: Week 3, day 2: Bench press (heavy) | B97: Triceps pushdown | C97: 2 | D97: 12 | E97: 1 | F97: =ROUND(Inputs!$C$11*E97/Inputs!$B$20,0)*Inputs!$B$20 -> 50
A98: Week 3, day 2: Bench press (heavy) | B98: Triceps pushdown | C98: 3 | D98: 12 | E98: 1 | F98: =ROUND(Inputs!$C$11*E98/Inputs!$B$20,0)*Inputs!$B$20 -> 50
A99: Week 3, day 3: Squat (explosive) | B99: Squat, explosive triples | C99: 1 | D99: 3 | E99: 0.6 | F99: =ROUND(Inputs!$C$7*E99/Inputs!$B$20,0)*Inputs!$B$20 -> 190
A100: Week 3, day 3: Squat (explosive) | B100: Squat, explosive triples | C100: 2 | D100: 3 | E100: 0.6 | F100: =ROUND(Inputs!$C$7*E100/Inputs!$B$20,0)*Inputs!$B$20 -> 190
A101: Week 3, day 3: Squat (explosive) | B101: Squat, explosive triples | C101: 3 | D101: 3 | E101: 0.6 | F101: =ROUND(Inputs!$C$7*E101/Inputs!$B$20,0)*Inputs!$B$20 -> 190
...

Sheet Progress
A1: Cube Method: training max by cycle
A2: Each row is one 3-week cycle. After each cycle the training max goes up by the amount in the yellow row; change it to suit you.
A4: Cycle | B4: Deadlift training max | C4: Bench press training max | D4: Squat training max | E4: Barbell row (weight for your sets of 8) training max | F4: Good morning (weight for your sets of 8) training max | G4: Incline dumbbell press, per hand (weight for your sets of 8) training max | H4: Triceps pushdown (weight for your sets of 12) training max | I4: Romanian deadlift (weight for your sets of 8) training max | J4: Leg curl (weight for your sets of 12) training max | K4: Overhead press (weight for your sets of 10) training max | L4: Leg press (weight for your sets of 12) training max | M4: Lateral raise, per hand (weight for your sets of 12) training max | N4: Dumbbell curl, per hand (weight for your sets of 12) training max
A5: Add each cycle (lb) | B5: 10 | C5: 5 | D5: 10 | E5: 5 | F5: 5 | G5: 5 | H5: 5 | I5: 5 | J5: 5 | K5: 5 | L5: 10 | M5: 2.5 | N5: 2.5
A6: 1 | B6: =Inputs!$C$5+($A6-1)*B$5 -> 405 | C6: =Inputs!$C$6+($A6-1)*C$5 -> 225 | D6: =Inputs!$C$7+($A6-1)*D$5 -> 315 | E6: =Inputs!$C$8+($A6-1)*E$5 -> 155 | F6: =Inputs!$C$9+($A6-1)*F$5 -> 115 | G6: =Inputs!$C$10+($A6-1)*G$5 -> 55 | H6: =Inputs!$C$11+($A6-1)*H$5 -> 50 | I6: =Inputs!$C$12+($A6-1)*I$5 -> 225 | J6: =Inputs!$C$13+($A6-1)*J$5 -> 70 | K6: =Inputs!$C$14+($A6-1)*K$5 -> 85 | L6: =Inputs!$C$15+($A6-1)*L$5 -> 270 | M6: =Inputs!$C$16+($A6-1)*M$5 -> 15 | N6: =Inputs!$C$17+($A6-1)*N$5 -> 25
A7: 2 | B7: =Inputs!$C$5+($A7-1)*B$5 -> 415 | C7: =Inputs!$C$6+($A7-1)*C$5 -> 230 | D7: =Inputs!$C$7+($A7-1)*D$5 -> 325 | E7: =Inputs!$C$8+($A7-1)*E$5 -> 160 | F7: =Inputs!$C$9+($A7-1)*F$5 -> 120 | G7: =Inputs!$C$10+($A7-1)*G$5 -> 60 | H7: =Inputs!$C$11+($A7-1)*H$5 -> 55 | I7: =Inputs!$C$12+($A7-1)*I$5 -> 230 | J7: =Inputs!$C$13+($A7-1)*J$5 -> 75 | K7: =Inputs!$C$14+($A7-1)*K$5 -> 90 | L7: =Inputs!$C$15+($A7-1)*L$5 -> 280 | M7: =Inputs!$C$16+($A7-1)*M$5 -> 17.5 | N7: =Inputs!$C$17+($A7-1)*N$5 -> 27.5
A8: 3 | B8: =Inputs!$C$5+($A8-1)*B$5 -> 425 | C8: =Inputs!$C$6+($A8-1)*C$5 -> 235 | D8: =Inputs!$C$7+($A8-1)*D$5 -> 335 | E8: =Inputs!$C$8+($A8-1)*E$5 -> 165 | F8: =Inputs!$C$9+($A8-1)*F$5 -> 125 | G8: =Inputs!$C$10+($A8-1)*G$5 -> 65 | H8: =Inputs!$C$11+($A8-1)*H$5 -> 60 | I8: =Inputs!$C$12+($A8-1)*I$5 -> 235 | J8: =Inputs!$C$13+($A8-1)*J$5 -> 80 | K8: =Inputs!$C$14+($A8-1)*K$5 -> 95 | L8: =Inputs!$C$15+($A8-1)*L$5 -> 290 | M8: =Inputs!$C$16+($A8-1)*M$5 -> 20 | N8: =Inputs!$C$17+($A8-1)*N$5 -> 30
A9: 4 | B9: =Inputs!$C$5+($A9-1)*B$5 -> 435 | C9: =Inputs!$C$6+($A9-1)*C$5 -> 240 | D9: =Inputs!$C$7+($A9-1)*D$5 -> 345 | E9: =Inputs!$C$8+($A9-1)*E$5 -> 170 | F9: =Inputs!$C$9+($A9-1)*F$5 -> 130 | G9: =Inputs!$C$10+($A9-1)*G$5 -> 70 | H9: =Inputs!$C$11+($A9-1)*H$5 -> 65 | I9: =Inputs!$C$12+($A9-1)*I$5 -> 240 | J9: =Inputs!$C$13+($A9-1)*J$5 -> 85 | K9: =Inputs!$C$14+($A9-1)*K$5 -> 100 | L9: =Inputs!$C$15+($A9-1)*L$5 -> 300 | M9: =Inputs!$C$16+($A9-1)*M$5 -> 22.5 | N9: =Inputs!$C$17+($A9-1)*N$5 -> 32.5
A10: 5 | B10: =Inputs!$C$5+($A10-1)*B$5 -> 445 | C10: =Inputs!$C$6+($A10-1)*C$5 -> 245 | D10: =Inputs!$C$7+($A10-1)*D$5 -> 355 | E10: =Inputs!$C$8+($A10-1)*E$5 -> 175 | F10: =Inputs!$C$9+($A10-1)*F$5 -> 135 | G10: =Inputs!$C$10+($A10-1)*G$5 -> 75 | H10: =Inputs!$C$11+($A10-1)*H$5 -> 70 | I10: =Inputs!$C$12+($A10-1)*I$5 -> 245 | J10: =Inputs!$C$13+($A10-1)*J$5 -> 90 | K10: =Inputs!$C$14+($A10-1)*K$5 -> 105 | L10: =Inputs!$C$15+($A10-1)*L$5 -> 310 | M10: =Inputs!$C$16+($A10-1)*M$5 -> 25 | N10: =Inputs!$C$17+($A10-1)*N$5 -> 35
A11: 6 | B11: =Inputs!$C$5+($A11-1)*B$5 -> 455 | C11: =Inputs!$C$6+($A11-1)*C$5 -> 250 | D11: =Inputs!$C$7+($A11-1)*D$5 -> 365 | E11: =Inputs!$C$8+($A11-1)*E$5 -> 180 | F11: =Inputs!$C$9+($A11-1)*F$5 -> 140 | G11: =Inputs!$C$10+($A11-1)*G$5 -> 80 | H11: =Inputs!$C$11+($A11-1)*H$5 -> 75 | I11: =Inputs!$C$12+($A11-1)*I$5 -> 250 | J11: =Inputs!$C$13+($A11-1)*J$5 -> 95 | K11: =Inputs!$C$14+($A11-1)*K$5 -> 110 | L11: =Inputs!$C$15+($A11-1)*L$5 -> 320 | M11: =Inputs!$C$16+($A11-1)*M$5 -> 27.5 | N11: =Inputs!$C$17+($A11-1)*N$5 -> 37.5
A12: 7 | B12: =Inputs!$C$5+($A12-1)*B$5 -> 465 | C12: =Inputs!$C$6+($A12-1)*C$5 -> 255 | D12: =Inputs!$C$7+($A12-1)*D$5 -> 375 | E12: =Inputs!$C$8+($A12-1)*E$5 -> 185 | F12: =Inputs!$C$9+($A12-1)*F$5 -> 145 | G12: =Inputs!$C$10+($A12-1)*G$5 -> 85 | H12: =Inputs!$C$11+($A12-1)*H$5 -> 80 | I12: =Inputs!$C$12+($A12-1)*I$5 -> 255 | J12: =Inputs!$C$13+($A12-1)*J$5 -> 100 | K12: =Inputs!$C$14+($A12-1)*K$5 -> 115 | L12: =Inputs!$C$15+($A12-1)*L$5 -> 330 | M12: =Inputs!$C$16+($A12-1)*M$5 -> 30 | N12: =Inputs!$C$17+($A12-1)*N$5 -> 40
A13: 8 | B13: =Inputs!$C$5+($A13-1)*B$5 -> 475 | C13: =Inputs!$C$6+($A13-1)*C$5 -> 260 | D13: =Inputs!$C$7+($A13-1)*D$5 -> 385 | E13: =Inputs!$C$8+($A13-1)*E$5 -> 190 | F13: =Inputs!$C$9+($A13-1)*F$5 -> 150 | G13: =Inputs!$C$10+($A13-1)*G$5 -> 90 | H13: =Inputs!$C$11+($A13-1)*H$5 -> 85 | I13: =Inputs!$C$12+($A13-1)*I$5 -> 260 | J13: =Inputs!$C$13+($A13-1)*J$5 -> 105 | K13: =Inputs!$C$14+($A13-1)*K$5 -> 120 | L13: =Inputs!$C$15+($A13-1)*L$5 -> 340 | M13: =Inputs!$C$16+($A13-1)*M$5 -> 32.5 | N13: =Inputs!$C$17+($A13-1)*N$5 -> 42.5
A15: Missed the prescribed reps before the AMRAP set? Take 10 to 15% off that training max and build back up.
